BEGIN:VCALENDAR
VERSION:2.0
PRODID:-//ChamberMaster//Event Calendar 2.0//EN
METHOD:PUBLISH
X-PUBLISHED-TTL:P3D
REFRESH-INTERVAL:P3D
CALSCALE:GREGORIAN
BEGIN:VEVENT
DTSTART:20191203T140000Z
DTEND:20191203T160000Z
X-MICROSOFT-CDO-ALLDAYEVENT:FALSE
SUMMARY:Summit Senior Breakfast Club: Are you at risk for Skin Cancer? What to look for in Skin Cancer and Moles.
DESCRIPTION:Summit Senior Breakfast Club\n\nAre you at risk for Skin Cancer?  What to look for in Skin Cancer and Moles?\n\n\n\nSkin cancer\, is the most common form of cancer in the U.S. Join\, Lauren Rimoin\, MD\, board certified dermatologist with additional training in Mohs Micrographic Surgery which is a precise surgical technique used to treat skin cancer and require additional education and training.\n\n\n\nRegistration is required by phoning:  888-863-5502 or 262-434-1248
X-ALT-DESC;FMTTYPE=text/html:<div style="text-align: center\;"><strong>Summit Senior Breakfast Club<br />\nAre you at risk for Skin Cancer?&nbsp\; What to look for in Skin Cancer and Moles?<br />\n<br />\nSkin cancer\, is the most common form of cancer in the U.S. Join\, Lauren Rimoin\, MD\, board certified dermatologist with additional training in Mohs Micrographic Surgery which is a precise surgical technique used to treat skin cancer and require additional education and training.<br />\n<br />\nRegistration is required by phoning:&nbsp\; 888-863-5502 or 262-434-1248</strong></div>\n
LOCATION:Aurora Medical Center Summit 36500 Aurora Drive Summit\, WI
UID:e.522.137820
SEQUENCE:3
DTSTAMP:20260419T162818Z
URL:https://business.hartland-wi.org/events/details/summit-senior-breakfast-club-are-you-at-risk-for-skin-cancer-what-to-look-for-in-skin-cancer-and-moles-137820
END:VEVENT

END:VCALENDAR
