BEGIN:VCALENDAR
VERSION:2.0
PRODID:-//ChamberMaster//Event Calendar 2.0//EN
METHOD:PUBLISH
X-PUBLISHED-TTL:P3D
REFRESH-INTERVAL:P3D
CALSCALE:GREGORIAN
BEGIN:VEVENT
DTSTART:20190604T130000Z
DTEND:20190604T150000Z
X-MICROSOFT-CDO-ALLDAYEVENT:FALSE
SUMMARY:Summit Senior Breakfast Club: Age Safe at Home and Live Well
DESCRIPTION:Summit Senior Breakfast Club\n\nAge Safe at Home and Live Well\n\n\n\nDid you know research by the CDC shows that home modifications and repairs may prevent up to 50% of home accidents among seniors\, including falls that take place in older homes?  Nearly 90% of older adults want to age-in-place and maintain independence in their homes according to AARP.  Shana Lebanowski\, Injury PRevention Coordinator will provide a home safety checheck list to reduce your risk of injury and provide a discussion on common injuries due to falls that might cause traumatic brain injury\, concussions and hip fractures. \n\n\n\nThe Western Lakes Fire Department will provide tips on aging in place and keeping your home safe and comfortable through simple modifications to afoid fire hazards.\n\n\n\nTuesday\, June 4\, 2019\n\n8-10 a.m.\n\nRegistration is required by phoning:  888-863-5502 or 262-434-1248
X-ALT-DESC;FMTTYPE=text/html:<div style="text-align: center\;">Summit Senior Breakfast Club<br />\nAge Safe at Home and Live Well<br />\n<br />\nDid you know research by the CDC shows that home modifications and repairs may prevent up to 50% of home accidents among seniors\, including falls that take place in older homes?&nbsp\; Nearly 90% of older adults want to age-in-place and maintain independence in their homes according to AARP.&nbsp\; Shana Lebanowski\, Injury PRevention Coordinator will provide a home safety checheck list to reduce your risk of injury and provide a discussion on common injuries due to falls that might cause traumatic brain injury\, concussions and hip fractures.&nbsp\;<br />\n<br />\nThe Western Lakes Fire Department will provide tips on aging in place and keeping your home safe and comfortable through simple modifications to afoid fire hazards.<br />\n<br />\nTuesday\, June 4\, 2019<br />\n8-10 a.m.<br />\nRegistration is required by phoning:&nbsp\; 888-863-5502 or 262-434-1248</div>\n
LOCATION:Aurora Medical Center Summit 36500 Aurora Drive Summit\, WI
UID:e.522.137816
SEQUENCE:3
DTSTAMP:20260424T233058Z
URL:https://business.hartland-wi.org/events/details/summit-senior-breakfast-club-age-safe-at-home-and-live-well-06-04-2019-137816
END:VEVENT

END:VCALENDAR
