BEGIN:VCALENDAR
VERSION:2.0
PRODID:-//ChamberMaster//Event Calendar 2.0//EN
METHOD:PUBLISH
X-PUBLISHED-TTL:P3D
REFRESH-INTERVAL:P3D
CALSCALE:GREGORIAN
BEGIN:VEVENT
DTSTART:20110625T003000Z
DTEND:20110626T020000Z
X-MICROSOFT-CDO-ALLDAYEVENT:FALSE
SUMMARY:SummerStage-Taming of the Shrew by Suitcase Shakespeare Company
DESCRIPTION:This uniquely condensed comedic adaptation of Shakespeare's play features maskwork\, physical comedy\, acrobatics\, stage combat\, live music and sound effects.
X-ALT-DESC;FMTTYPE=text/html:This uniquely condensed comedic adaptation of Shakespeare&rsquo\;s play features maskwork\, physical comedy\, acrobatics\, stage combat\, live music and sound effects.
LOCATION:SummerStage at Lapham Peak State Park
UID:e.522.131717
SEQUENCE:3
DTSTAMP:20260422T151216Z
URL:https://business.hartland-wi.org/events/details/summerstage-taming-of-the-shrew-by-suitcase-shakespeare-company-06-24-2011-131717
END:VEVENT

END:VCALENDAR
