BEGIN:VCALENDAR
VERSION:2.0
PRODID:-//ChamberMaster//Event Calendar 2.0//EN
METHOD:PUBLISH
X-PUBLISHED-TTL:P3D
REFRESH-INTERVAL:P3D
CALSCALE:GREGORIAN
BEGIN:VEVENT
DTSTART:20110731T003000Z
DTEND:20110731T023000Z
X-MICROSOFT-CDO-ALLDAYEVENT:FALSE
SUMMARY:SummerStage - Evening of Irish Music & Dance
DESCRIPTION:Join us for a celebration of Irish music and dance. Great Irish step dancing\, driving traditional music by great Irish bands will provide a summer evening of music for all ages. Irish Fest is still a few weeks away\, so visit our beautiful outdoor setting.
X-ALT-DESC;FMTTYPE=text/html:Join us for a celebration of Irish music and dance. Great Irish step dancing\, driving traditional music by great Irish bands will provide a summer evening of music for all ages. Irish Fest is still a few weeks away\, so visit our beautiful outdoor setting.
LOCATION:SummerStage at Lapham Peak Stage Park in Delafield\, WI
UID:e.522.131719
SEQUENCE:3
DTSTAMP:20260420T105803Z
URL:https://business.hartland-wi.org/events/details/summerstage-evening-of-irish-music-dance-07-30-2011-131719
END:VEVENT

END:VCALENDAR
