BEGIN:VCALENDAR
VERSION:2.0
PRODID:-//ChamberMaster//Event Calendar 2.0//EN
METHOD:PUBLISH
X-PUBLISHED-TTL:P3D
REFRESH-INTERVAL:P3D
CALSCALE:GREGORIAN
BEGIN:VEVENT
DTSTART:20110807T003000Z
DTEND:20110808T023000Z
X-MICROSOFT-CDO-ALLDAYEVENT:FALSE
SUMMARY:SummerStage - Broadway Cabaret - An Evening with Tony
DESCRIPTION:Join us for an evening of performances of Broadway songs.  You'll be taken through a musical journey of songs that earned Broadway's top honor\, the Tony Award.
X-ALT-DESC;FMTTYPE=text/html:Join us for an evening of performances of Broadway songs.&nbsp\; You&rsquo\;ll be taken through a musical journey of songs that earned Broadway&rsquo\;s top honor\, the Tony Award.
LOCATION:SummerStage at Lapham Peak State Park in Delafield\, WI
UID:e.522.131720
SEQUENCE:3
DTSTAMP:20260420T125058Z
URL:https://business.hartland-wi.org/events/details/summerstage-broadway-cabaret-an-evening-with-tony-08-06-2011-131720
END:VEVENT

END:VCALENDAR
