BEGIN:VCALENDAR
VERSION:2.0
PRODID:-//ChamberMaster//Event Calendar 2.0//EN
METHOD:PUBLISH
X-PUBLISHED-TTL:P3D
REFRESH-INTERVAL:P3D
CALSCALE:GREGORIAN
BEGIN:VEVENT
DTSTART:20110820T003000Z
DTEND:20110828T023000Z
X-MICROSOFT-CDO-ALLDAYEVENT:FALSE
SUMMARY:SummerStage - Barefoot in the Park by Neil Simon
DESCRIPTION:Barefoot in the Park by Neil Simon\n\nDirected by Ed Sarna\n\nThis romantic comedy is Neil Simon's most successful play.  Barefoot In The Park follows the lives of newlyweds Paul and Corie Bratter as they adjust to married life in a tiny Greenwich Village apartment. This comedy was the longest running non-musical play on Broadway.
X-ALT-DESC;FMTTYPE=text/html:<span class="h3">Barefoot in the Park</span> <strong>by Neil Simon</strong><br />\n<span class="h5">Directed by Ed Sarna</span><br />\nThis romantic comedy is Neil Simon&rsquo\;s most successful play.&nbsp\; Barefoot In The Park follows the lives of newlyweds Paul and Corie Bratter as they adjust to married life in a tiny Greenwich Village apartment. This comedy was the longest running non-musical play on Broadway.
LOCATION:SummerStage in Lapham Peak state Park
UID:e.522.131722
SEQUENCE:3
DTSTAMP:20260420T125237Z
URL:https://business.hartland-wi.org/events/details/summerstage-barefoot-in-the-park-by-neil-simon-08-19-2011-131722
END:VEVENT

END:VCALENDAR
