BEGIN:VCALENDAR
VERSION:2.0
PRODID:-//ChamberMaster//Event Calendar 2.0//EN
METHOD:PUBLISH
X-PUBLISHED-TTL:P3D
REFRESH-INTERVAL:P3D
CALSCALE:GREGORIAN
BEGIN:VEVENT
DTSTART:20110813T003000Z
DTEND:20110814T023000Z
X-MICROSOFT-CDO-ALLDAYEVENT:FALSE
SUMMARY:SummerStage - ?Art? - A Dramatic Reading
DESCRIPTION:"Art" - A Dramatic Reading by Yasmina Reza\, translated by Christopher Hampton Directed by Jeffrey James Ircink\n\nWhat is art? It depends on the beholder. Winner of the 1998 Tony Award for Best Play and the 1996 Olivier Award for Best Comedy.  " wildly funny\, naughtily provocative " New York Post.
X-ALT-DESC;FMTTYPE=text/html:<span class="h3"><strong>&ldquo\;Art&rdquo\;</strong> - <strong>A Dramatic Reading</strong></span> by Yasmina Reza\, translated by Christopher Hampton <span class="h5">Directed by Jeffrey James Ircink</span><br />\nWhat is art? It depends on the beholder. Winner of the 1998 Tony Award for Best Play and the 1996 Olivier Award for Best Comedy. &nbsp\;&ldquo\;&hellip\;wildly funny\, naughtily provocative&hellip\;&rdquo\; New York Post.
LOCATION:SummerStage at Lapham Peak State Park
UID:e.522.131721
SEQUENCE:3
DTSTAMP:20260420T124747Z
URL:https://business.hartland-wi.org/events/details/summerstage-art-a-dramatic-reading-08-12-2011-131721
END:VEVENT

END:VCALENDAR
