BEGIN:VCALENDAR
VERSION:2.0
PRODID:-//ChamberMaster//Event Calendar 2.0//EN
METHOD:PUBLISH
X-PUBLISHED-TTL:P3D
REFRESH-INTERVAL:P3D
CALSCALE:GREGORIAN
BEGIN:VEVENT
DTSTART:20110716T010000Z
DTEND:20110724T030000Z
X-MICROSOFT-CDO-ALLDAYEVENT:FALSE
SUMMARY:Summer - Our Town by Thornton Wilder
DESCRIPTION:Thornton Wilder was a Pulitzer Prize-winning novelist when he wrote Our Town in 1938.  Grover's Corners belongs to all of us. It is our town\, a microcosm of the human family\, capturing the universal experience of being alive.
X-ALT-DESC;FMTTYPE=text/html:Thornton Wilder was a Pulitzer Prize-winning novelist when he wrote Our Town in 1938.&nbsp\; Grover&rsquo\;s Corners belongs to all of us. It is our town\, a microcosm of the human family\, capturing the universal experience of being alive.
LOCATION:SummerStage at Lapham State Park
UID:e.522.131718
SEQUENCE:3
DTSTAMP:20260422T131456Z
URL:https://business.hartland-wi.org/events/details/summer-our-town-by-thornton-wilder-07-15-2011-131718
END:VEVENT

END:VCALENDAR
