BEGIN:VCALENDAR
VERSION:2.0
PRODID:-//ChamberMaster//Event Calendar 2.0//EN
METHOD:PUBLISH
X-PUBLISHED-TTL:P3D
REFRESH-INTERVAL:P3D
CALSCALE:GREGORIAN
BEGIN:VEVENT
DTSTART:20130508T190000Z
DTEND:20130508T210000Z
X-MICROSOFT-CDO-ALLDAYEVENT:FALSE
SUMMARY:Straighten Up with National Correct Posture Month This May
DESCRIPTION:People with better posture really are healthier and studies show they actually live longer! From backpacks to computers to canes\, poor posture is one of the major causes for back and neck pain. \n\n\n\nOn Wednesday\, May 8th\, from 2-4pm\, Dr. Rose will be performing a no-charge postural analysis to the public in her clinic. She will analyze your posture and give you her recommendations for strengthening exercises and smart postural habits.     Call (262) 367-4523 to reserve your spot\, or walk-in during the time mentioned above.
X-ALT-DESC;FMTTYPE=text/html:<span style="font-family: calibri\;"><span style="font-size: 12pt\;"><span style="font-size: 12pt\;"><span style="font-family: calibri\, sans-serif\;">People with better posture really are healthier and studies show they actually live longer! From backpacks to computers to canes\, poor posture is one of the major causes for back and neck pain. </span></span></span><br />\n<br />\n<strong><span style="font-size: 12pt\;">On Wednesday\, May 8<sup>th</sup>\, from 2-4pm\, Dr. Rose will be performing a no-charge postural analysis to the public in her clinic.</span></strong></span><span style="font-size: 12pt\;"> She will analyze your posture and give you her recommendations for strengthening exercises and smart postural habits.&nbsp\;</span><span style="font-size: 12pt\;">&nbsp\;&nbsp\;&nbsp\;&nbsp\;</span><span style="font-size: 12pt\;"><span style="font-family: calibri\;">Call (262) 367-4523 to reserve your spot\, or walk-in during the time mentioned above.&nbsp\;&nbsp\;<font face=""> </font></span></span>
LOCATION:Chiropractic Care Center ? Hartland is located on the corner of Hwy 83 and County Rd KE near Town Bank. 864 Rose Dr. ? Hartland
UID:e.522.132746
SEQUENCE:3
DTSTAMP:20260420T212732Z
URL:https://business.hartland-wi.org/events/details/straighten-up-with-national-correct-posture-month-this-may-05-08-2013-132746
END:VEVENT

END:VCALENDAR
