BEGIN:VCALENDAR
VERSION:2.0
PRODID:-//ChamberMaster//Event Calendar 2.0//EN
METHOD:PUBLISH
X-PUBLISHED-TTL:P3D
REFRESH-INTERVAL:P3D
CALSCALE:GREGORIAN
BEGIN:VEVENT
DTSTART:20130504T000000Z
DTEND:20130504T013000Z
X-MICROSOFT-CDO-ALLDAYEVENT:FALSE
SUMMARY:Steve Angrisano - 2 Nights of Music and Stories
DESCRIPTION:Truly living our faith is a great adventure!\n\n	We are challenged by a loving God to make a difference in the world\, to be witnesses of the faith that we profess.  Jesus challenges us all to be the body of Christ\, to be a light to the world. Discover in story and song God's call of faithfulness to each of us.
X-ALT-DESC;FMTTYPE=text/html:<div>\n	Truly living our faith is a great adventure!</div>\n<div>\n	We are challenged by a loving God to make a difference in the world\, to be witnesses of the faith that we profess. &nbsp\;Jesus challenges us all to be the body of Christ\, to be a light to the world. Discover in story and song God&rsquo\;s call of faithfulness to each of us.</div>\n
LOCATION:The concert will be held in the church.
UID:e.522.132381
SEQUENCE:3
DTSTAMP:20260420T195818Z
URL:https://business.hartland-wi.org/events/details/steve-angrisano-2-nights-of-music-and-stories-05-03-2013-132381
END:VEVENT

END:VCALENDAR
