BEGIN:VCALENDAR
VERSION:2.0
PRODID:-//ChamberMaster//Event Calendar 2.0//EN
METHOD:PUBLISH
X-PUBLISHED-TTL:P3D
REFRESH-INTERVAL:P3D
CALSCALE:GREGORIAN
BEGIN:VEVENT
DTSTART:20130503T000000Z
DTEND:20130503T013000Z
X-MICROSOFT-CDO-ALLDAYEVENT:FALSE
SUMMARY:Steve Angrisano - 2 Nights of Music and Stories
DESCRIPTION:We have a God who Sets Us Free! Not a God of OK news but of Good News! A God who calls us to be free from the things that bind us. The powerful message and wonderful music of this mission or concert are perfect for any event and will captivate young and old alike.
X-ALT-DESC;FMTTYPE=text/html:<div>\n	We have a God who Sets Us Free! Not a God of OK news but of Good News! A God who calls us to be free from the things that bind us. The powerful message and wonderful music of this mission or concert are perfect for any event and will captivate young and old alike.</div>\n
LOCATION:The concert will be held in the church.
UID:e.522.132380
SEQUENCE:3
DTSTAMP:20260420T195655Z
URL:https://business.hartland-wi.org/events/details/steve-angrisano-2-nights-of-music-and-stories-05-02-2013-132380
END:VEVENT

END:VCALENDAR
