BEGIN:VCALENDAR
VERSION:2.0
PRODID:-//ChamberMaster//Event Calendar 2.0//EN
METHOD:PUBLISH
X-PUBLISHED-TTL:P3D
REFRESH-INTERVAL:P3D
CALSCALE:GREGORIAN
BEGIN:VEVENT
DTSTART:20170824T190000Z
DTEND:20170824T210000Z
X-MICROSOFT-CDO-ALLDAYEVENT:FALSE
SUMMARY:Steppping On
DESCRIPTION:Stepping On\n\nBuilding Confidence and Reducing Falls a 7 Week Program\n\n1 in 3 persons over the age of 65 falls each year.\n\nFalls are the leading cause of loss of independent living.\n\nFalls and the complications associated with them are the second leading cause of death in Wisconsin.\n\nReduce the fear of falling by taking part in Stepping On.\n\n\n\nGuest Experts teach us:\n\nSimple and fun balance and strength training techniques.\n\nHow your vision plays a role in keeping your balance\n\nHow medication can contribute to falls\n\nWays to stay safe when out and about\n\nWhat to look for in safe footwear\n\nLearn how to check your home for safety.\n\nJoin us for this special Seven-Week Workshop.
X-ALT-DESC;FMTTYPE=text/html:<div style="text-align: center\;"><strong>Stepping On<br />\nBuilding Confidence and Reducing Falls a 7 Week Program<br />\n1 in 3 persons over the age of 65 falls each year.<br />\nFalls are the leading cause of loss of independent living.<br />\nFalls and the complications associated with them are the second leading cause of death in Wisconsin.<br />\nReduce the fear of falling by taking part in Stepping On.<br />\n<br />\nGuest Experts teach us:<br />\nSimple and fun balance and strength training techniques.<br />\nHow your vision plays a role in keeping your balance<br />\nHow medication can contribute to falls<br />\nWays to stay safe when out and about<br />\nWhat to look for in safe footwear<br />\nLearn how to check your home for safety.<br />\nJoin us for this special Seven-Week Workshop.</strong><br />\n&nbsp\;</div>\n
LOCATION:Aurora Medical Center Summit Vince Lombardi Cancer Clinic 36500 Aurora Drive Summit\, WI
UID:e.522.136689
SEQUENCE:3
DTSTAMP:20260423T112559Z
URL:https://business.hartland-wi.org/events/details/steppping-on-136689
END:VEVENT

END:VCALENDAR
