BEGIN:VCALENDAR
VERSION:2.0
PRODID:-//ChamberMaster//Event Calendar 2.0//EN
METHOD:PUBLISH
X-PUBLISHED-TTL:P3D
REFRESH-INTERVAL:P3D
CALSCALE:GREGORIAN
BEGIN:VEVENT
DTSTART:20170610T180000Z
DTEND:20170611T030000Z
X-MICROSOFT-CDO-ALLDAYEVENT:FALSE
SUMMARY:St. Teresa of Calcutta Church Festival
DESCRIPTION:Open to the community! Live music with Sigmund Snopek III from 2 to 5 p.m. and The Boogie Men 7 to 10 p.m. Children's games and inflateables. German Beer Garden\, Silent Auction\, Softball Game\, and Grand Raffle & 50/50.\n\n\n\nFood includes BBQ pulled pork\, baked potato bar\, walking tacos\, grilled food\, ice cream sundaes and root beer floats.
X-ALT-DESC;FMTTYPE=text/html:Open to the community! Live music with Sigmund Snopek III from 2 to 5 p.m. and The Boogie Men 7 to 10 p.m. Children&#39\;s games and inflateables. German Beer Garden\, Silent Auction\, Softball Game\, and Grand Raffle &amp\; 50/50.<br />\n<br />\nFood includes BBQ pulled pork\, baked potato bar\, walking tacos\, grilled food\, ice cream sundaes and root beer floats.
LOCATION:St. Teresa of Calcutta Church W314N7500 State Road 83 North Lake
UID:e.522.136677
SEQUENCE:3
DTSTAMP:20260423T064326Z
URL:https://business.hartland-wi.org/events/details/st-teresa-of-calcutta-church-festival-136677
END:VEVENT

END:VCALENDAR
