BEGIN:VCALENDAR
VERSION:2.0
PRODID:-//ChamberMaster//Event Calendar 2.0//EN
METHOD:PUBLISH
X-PUBLISHED-TTL:P3D
REFRESH-INTERVAL:P3D
CALSCALE:GREGORIAN
BEGIN:VEVENT
DTSTART:20181031T181500Z
DTEND:20181031T191500Z
X-MICROSOFT-CDO-ALLDAYEVENT:FALSE
SUMMARY:St. Charles Parish School Halloween Parade
DESCRIPTION:Hello Downtown Hartland Business Owners and Staff! Keep a watch out for fairies and wizards\, animals and cowgirls as St. Charles Parish School students take to the streets of Downtown Hartland for the Annual Halloween Parade. The youngsters will hit Capitol Drive from Nixon about 1:15 pm and travel down Capitol to North Avenue. They will continue down North Avenue and then turn on Lawn Street and head back toward the school. It will take about 45 minutes to get the nearly 300 students through the parade.\n\n\n\nWe just wanted to give you a heads up to be on the lookout for our students.\n\n\n\nThanks much and Happy Halloween!
X-ALT-DESC;FMTTYPE=text/html:Hello Downtown Hartland Business Owners and Staff! Keep a watch out for fairies and wizards\, animals and cowgirls as St. Charles Parish School students take to the streets of Downtown Hartland for the Annual Halloween Parade. The youngsters will hit Capitol Drive from Nixon about 1:15 pm and travel down Capitol to North Avenue. They will continue down North Avenue and then turn on Lawn Street and head back toward the school. It will take about 45 minutes to get the nearly 300 students through the parade.<br />\n<br />\nWe just wanted to give you a heads up to be on the lookout for our students.<br />\n<br />\nThanks much and Happy Halloween!
LOCATION:Downtown Hartland on Capitol Drive
UID:e.522.137611
SEQUENCE:3
DTSTAMP:20260424T090923Z
URL:https://business.hartland-wi.org/events/details/st-charles-parish-school-halloween-parade-137611
END:VEVENT

END:VCALENDAR
