BEGIN:VCALENDAR
VERSION:2.0
PRODID:-//ChamberMaster//Event Calendar 2.0//EN
METHOD:PUBLISH
X-PUBLISHED-TTL:P3D
REFRESH-INTERVAL:P3D
CALSCALE:GREGORIAN
BEGIN:VEVENT
DTSTART:20120426T220000Z
DTEND:20120427T020000Z
X-MICROSOFT-CDO-ALLDAYEVENT:FALSE
SUMMARY:SPRING Girlfriends Gala
DESCRIPTION:Thursday\, April 26th\, 2012\n\n5pm-9pm\n\nWe invite you to join us for the SPRING Girlfriends' Gala in the Heart of Lake Country!!!\n\n\n\nParticipating Businesses:\n\nHartland Center of Alternative Medicine\, Sound Body Massage\, Mind Body Life Coaching\, To the Pointe Dance Academy\, Lake Country Martial Arts\, by Ally Home Design\, Designer Consignor\, This Great Coffee Place\, Lake Country Fine Arts\, JC Bogars\, The Book Store\, Kirsten's Salon\, Senor Tomas.\n\n\n\n\n\nParticpating Artists:\n\n\n\nArtists & Creators Showcase ala Lake Country \n\nMeredith\, Vault Denim\n\nMartha\, Martita's MIxers\n\nKelly\, Unbuttoned Boudoir Photography\n\nSue\, Trails to Bridges\n\nAnna Draeger\, Associate Editor of Bead and Button\n\nCarol\, Buggs Jensen\n\n\n\n\n\nFree Horse & Carriage Rides from 6-8pm!!\n\n\n\n\n\nQuestions??\n\nContact Jen Shoemake.\n\n#262-563-8022\n\njennifer@hartlandaltmed.com\n\n\n\n\n\nIndulge in Local Treasures!\n\nFInd 'Girlfriends Gala in Downtown Hartland' on Facebook for Event & Artist Details!!!
X-ALT-DESC;FMTTYPE=text/html:<span style="font-size:14px\;"><strong><em><span style="color:#800080\;">Thursday\, April 26th\, 2012</span></em></strong><br />\n<strong>5pm-9pm</strong></span><br />\n<strong>We invite you to join us for the <em><span style="color:#800080\;">SPRING Girlfriends&#39\; Gala</span></em> in the Heart of Lake Country!!!</strong><br />\n<br />\n<strong><em><span style="color:#4b0082\;">Participating Businesses:</span></em></strong><br />\nHartland Center of Alternative Medicine\, Sound Body Massage\, Mind Body Life Coaching\, To the Pointe Dance Academy\, Lake Country Martial Arts\, by Ally Home Design\, Designer Consignor\, This Great Coffee Place\, Lake Country Fine Arts\, JC Bogars\, The Book Store\, Kirsten&#39\;s Salon\, Senor Tomas.<br />\n<br />\n<br />\n<font color="#4b0082"><b><i>Particpating Artists:<br />\n<br />\nArtists &amp\; Creators Showcase ala Lake Country&nbsp\;</i></b></font><br />\n<font color="#4b0082"><b><i>Meredith\, Vault Denim<br />\nMartha\, Martita&#39\;s MIxers<br />\nKelly\, Unbuttoned Boudoir Photography<br />\nSue\, Trails to Bridges<br />\nAnna Draeger\, Associate Editor of Bead and Button<br />\nCarol\, Buggs Jensen</i></b></font><br />\n<br />\n<br />\nFree Horse &amp\; Carriage Rides from 6-8pm!!<br />\n<br />\n<br />\n<span style="color:#800080\;">Questions??</span><br />\nContact Jen Shoemake.<br />\n#262-563-8022<br />\njennifer@hartlandaltmed.com<br />\n<br />\n<br />\n<em><span style="font-family:arial\;"><strong><span style="color:#800080\;">Indulge in Local Treasures!</span></strong></span><br />\n<span style="color:#4b0082\;">FInd &#39\;Girlfriends Gala in Downtown Hartland&#39\; on Facebook for Event &amp\; Artist Details!!!</span></em><br />\n&nbsp\;<br />\n
LOCATION:Throughout Downtown Hartland
UID:e.522.131932
SEQUENCE:3
DTSTAMP:20260421T175142Z
URL:https://business.hartland-wi.org/events/details/spring-girlfriends-gala-04-26-2012-131932
END:VEVENT

END:VCALENDAR
