BEGIN:VCALENDAR
VERSION:2.0
PRODID:-//ChamberMaster//Event Calendar 2.0//EN
METHOD:PUBLISH
X-PUBLISHED-TTL:P3D
REFRESH-INTERVAL:P3D
CALSCALE:GREGORIAN
BEGIN:VEVENT
DTSTART:20190322T220000Z
DTEND:20190323T000000Z
X-MICROSOFT-CDO-ALLDAYEVENT:FALSE
SUMMARY:Spring Fling Happy Hour FUNdraiser
DESCRIPTION:Join Theia Vision Care to benefit the Leukemia and Lymphoma Society. \n\nWe are asking your support in one of the following ways:\n\n1. Donations: Donate an item for our Happy Hour Fundraiser on Friday March 22nd. \n\n2. Come to Happy Hour!! Stop by Theia Vision Care at 213 E Capitol Drive in Hartland for our Happy Hour Fundraiser from 5-7pm.\n\n3. Make a tax-deductible donation now at www.teamdream2019.com  Any amount is greatly appreciated! Your may donate online or checks can be made out to "Leukemia & Lymphoma Society" with Annie Trimberger written in the memo line. Drop them at Theia Vision Care anytime now through May 1st!
X-ALT-DESC;FMTTYPE=text/html:Join Theia Vision Care to benefit the Leukemia and Lymphoma Society.&nbsp\;<br />\nWe are asking your support in one of the following ways:<br />\n1. Donations: Donate an item for our Happy Hour Fundraiser on Friday March 22nd.&nbsp\;<br />\n2. Come to Happy Hour!! Stop by Theia Vision Care at 213 E Capitol Drive in Hartland for our Happy Hour Fundraiser from 5-7pm.<br />\n3. Make a tax-deductible donation now at www.teamdream2019.com&nbsp\; Any amount is greatly appreciated! Your may donate online or checks can be made out to &quot\;Leukemia &amp\; Lymphoma Society&quot\; with Annie Trimberger written in the memo line. Drop them at Theia Vision Care anytime now through May 1st!<br />\n&nbsp\;
LOCATION:Thiea Vision Care 213 E Capitol Drive Hartland\, WI 53029
UID:e.522.137706
SEQUENCE:3
DTSTAMP:20260424T174628Z
URL:https://business.hartland-wi.org/events/details/spring-fling-happy-hour-fundraiser-137706
END:VEVENT

END:VCALENDAR
