BEGIN:VCALENDAR
VERSION:2.0
PRODID:-//ChamberMaster//Event Calendar 2.0//EN
METHOD:PUBLISH
X-PUBLISHED-TTL:P3D
REFRESH-INTERVAL:P3D
CALSCALE:GREGORIAN
BEGIN:VEVENT
DTSTART:20210612T170000Z
DTEND:20210612T230000Z
X-MICROSOFT-CDO-ALLDAYEVENT:FALSE
SUMMARY:SPRING FLING
DESCRIPTION:KICK-OFF YOUR SPRING with a family and community event in Nixon Park in the heart of Hartland.\n\nEnter the Bag Toss tournament or mingle and enjoy friends\, family and community.\n\nEither form of participation allows you to enjoy live music\, test your talents at various games\,\n\nand indulging your taste buds with the food and beverage hosted by the Lake Country Beer Garden.
X-ALT-DESC;FMTTYPE=text/html:<span style="color:rgb(255\, 140\, 0)"><strong>KICK-OFF YOUR SPRING</strong></span>&nbsp\;<span style="color:rgb(128\, 0\, 128)">with a family and community event in Nixon Park in the heart of Hartland.<br />\nEnter the Bag Toss tournament or mingle and enjoy friends\, family and community.<br />\nEither form of participation allows you to enjoy live music\, test your talents at various games\,<br />\nand indulging your taste buds with the food and beverage hosted by the Lake Country Beer Garden.</span>
LOCATION:Nixon Park in Hartland\, WI
UID:e.522.138849
SEQUENCE:3
DTSTAMP:20260425T114612Z
URL:https://business.hartland-wi.org/events/details/spring-fling-138849
END:VEVENT

END:VCALENDAR
