BEGIN:VCALENDAR
VERSION:2.0
PRODID:-//ChamberMaster//Event Calendar 2.0//EN
METHOD:PUBLISH
X-PUBLISHED-TTL:P3D
REFRESH-INTERVAL:P3D
CALSCALE:GREGORIAN
BEGIN:VEVENT
DTSTART:20180918T220000Z
DTEND:20180919T000000Z
X-MICROSOFT-CDO-ALLDAYEVENT:FALSE
SUMMARY:Solutions to Common Low Back Problems: Summit Community Health Beat
DESCRIPTION:Solutions to Common Low Back Problems\n\n\n\nAt Aurora Medical Center Summit we offer our own Back & Spine Programs to help patients with pain.  Low back pain is common no doubt\, and the solutions are many.  David Tylicki M.D.\, an expert in physical medicine and pain management will share his knowledge to determine which course of treatment is right for you.\n\n\n\nRegistration is required by phoning:  888-863-5502 or contact Trish Golden at 262-434-1248\n\nRegistration/light sandwiches:  5 to 5: 30\n\nPresentation:  5:30 to 7 p.m.
X-ALT-DESC;FMTTYPE=text/html:<div style="text-align: center\;"><strong>Solutions to Common Low Back Problems<br />\n<br />\nAt Aurora Medical Center Summit we offer our own Back &amp\; Spine Programs to help patients with pain.&nbsp\; Low back pain is common no doubt\, and the solutions are many.&nbsp\; David Tylicki M.D.\, an expert in physical medicine and pain management will share his knowledge to determine which course of treatment is right for you.<br />\n<br />\nRegistration is required by phoning:&nbsp\; 888-863-5502 or contact Trish Golden at 262-434-1248<br />\nRegistration/light sandwiches:&nbsp\; 5 to 5: 30<br />\nPresentation:&nbsp\; 5:30 to 7 p.m.</strong></div>\n
LOCATION:Aurora Medical Center Summit - Draper Hall 36500 Aurora Drive Summit Wi
UID:e.522.137252
SEQUENCE:3
DTSTAMP:20260424T072927Z
URL:https://business.hartland-wi.org/events/details/solutions-to-common-low-back-problems-summit-community-health-beat-137252
END:VEVENT

END:VCALENDAR
