BEGIN:VCALENDAR
VERSION:2.0
PRODID:-//ChamberMaster//Event Calendar 2.0//EN
METHOD:PUBLISH
X-PUBLISHED-TTL:P3D
REFRESH-INTERVAL:P3D
CALSCALE:GREGORIAN
BEGIN:VEVENT
DTSTART:20180403T130000Z
DTEND:20180403T140000Z
X-MICROSOFT-CDO-ALLDAYEVENT:FALSE
SUMMARY:Solutions for Knee and Hip Pain: Summit Senior Breakfast Club
DESCRIPTION:Summit Senior Breakfat Club\n\nSolutions for Knee and Hip Pain\n\n\n\nKnee and hip pain is common no doubt\, and the solutions are many.  Join Christopher Dale\, Orthopedic surgeon with Aurora Medical Center Summit\, he will help you determine which course of treatment is right for you.\n\n\n\nRegistration is required by phoning:  888-863-5502
X-ALT-DESC;FMTTYPE=text/html:<div style="text-align: center\;"><strong>Summit Senior Breakfat Club<br />\nSolutions for Knee and Hip Pain<br />\n<br />\nKnee and hip pain is common no doubt\, and the solutions are many.&nbsp\; Join Christopher Dale\, Orthopedic surgeon with Aurora Medical Center Summit\, he will help you determine which course of treatment is right for you.<br />\n<br />\nRegistration is required by phoning:&nbsp\; 888-863-5502</strong><br />\n&nbsp\;</div>\n
LOCATION:Aurora Medical Center Summit Draper Hall 36500 Aurora Drive Summit\, WI
UID:e.522.137194
SEQUENCE:3
DTSTAMP:20260423T232914Z
URL:https://business.hartland-wi.org/events/details/solutions-for-knee-and-hip-pain-summit-senior-breakfast-club-137194
END:VEVENT

END:VCALENDAR
