BEGIN:VCALENDAR
VERSION:2.0
PRODID:-//ChamberMaster//Event Calendar 2.0//EN
METHOD:PUBLISH
X-PUBLISHED-TTL:P3D
REFRESH-INTERVAL:P3D
CALSCALE:GREGORIAN
BEGIN:VEVENT
DTSTART:20180116T233000Z
DTEND:20180117T010000Z
X-MICROSOFT-CDO-ALLDAYEVENT:FALSE
SUMMARY:Solutions for Chronic Sinusitis: Summit Community Health Beat Lecture Series
DESCRIPTION:Solutions for Chronic Sinusitis\n\nSummit Community Health Beat\n\nSinus sufferers are often plagued by persistent runny noses\, pain and stuffiness.  Join Anders Holm MD for the inside scoop on the diagnoses and treatment of both acute and chronic sinusitis.\n\nRegistration/Light Meal:  5 to 5:30\n\nPresentation:  5:30 to 7:00 p.m.\n\nSpace is limited!  Register today by phoning:  888863-5502
X-ALT-DESC;FMTTYPE=text/html:<div style="text-align: center\;"><strong>Solutions for Chronic Sinusitis<br />\nSummit Community Health Beat<br />\nSinus sufferers are often plagued by persistent runny noses\, pain and stuffiness.&nbsp\; Join Anders Holm MD for the inside scoop on the diagnoses and treatment of both acute and chronic sinusitis.<br />\nRegistration/Light Meal:&nbsp\; 5 to 5:30<br />\nPresentation:&nbsp\; 5:30 to 7:00 p.m.<br />\nSpace is limited!&nbsp\; Register today by phoning:&nbsp\; 888863-5502</strong><br />\n&nbsp\;</div>\n
LOCATION:Aurora Medical Center Summit Draper Hall 36500 Aurora Drive Summit\, WI 53066
UID:e.522.136693
SEQUENCE:3
DTSTAMP:20260423T182426Z
URL:https://business.hartland-wi.org/events/details/solutions-for-chronic-sinusitis-summit-community-health-beat-lecture-series-136693
END:VEVENT

END:VCALENDAR
