BEGIN:VCALENDAR
VERSION:2.0
PRODID:-//ChamberMaster//Event Calendar 2.0//EN
METHOD:PUBLISH
X-PUBLISHED-TTL:P3D
REFRESH-INTERVAL:P3D
CALSCALE:GREGORIAN
BEGIN:VEVENT
DTSTART:20190413T000000Z
DTEND:20190413T010000Z
X-MICROSOFT-CDO-ALLDAYEVENT:FALSE
SUMMARY:"Social Media and Teens"
DESCRIPTION:In this presentation\, a licensed Professional Couselor with Chrstian Family Solutions\, explores both the risks and benefits of social media for kids as well as identifies warning signs parents and teachers can be aware of. Risks include: cyberbullying\, sexual exploitaion\, and identify theft.  It can be a scary world out there. Social media brings that world into our homes and our schools.  Learn ways that kids\, their educators\, and parents can make social media the safest and most positive experience possible.
X-ALT-DESC;FMTTYPE=text/html:In this presentation\, a licensed Professional Couselor with Chrstian Family Solutions\, explores both the risks and benefits of social media for kids as well as identifies warning signs parents and teachers can be aware of. Risks include: cyberbullying\, sexual exploitaion\, and identify theft.&nbsp\; It can be a scary world out there. Social media brings that world into our homes and our schools.&nbsp\; Learn ways that kids\, their educators\, and parents can make social media the safest and most positive experience possible.
LOCATION:Zion Lutheran School 1023 E. Capitol Drive Hartland\, WI 53029
UID:e.522.137695
SEQUENCE:3
DTSTAMP:20260424T192952Z
URL:https://business.hartland-wi.org/events/details/social-media-and-teens-137695
END:VEVENT

END:VCALENDAR
