BEGIN:VCALENDAR
VERSION:2.0
PRODID:-//ChamberMaster//Event Calendar 2.0//EN
METHOD:PUBLISH
X-PUBLISHED-TTL:P3D
REFRESH-INTERVAL:P3D
CALSCALE:GREGORIAN
BEGIN:VEVENT
DTSTART:20110927T230000Z
DTEND:20110928T030000Z
X-MICROSOFT-CDO-ALLDAYEVENT:FALSE
SUMMARY:Social Event by Hartland-Lakeside Education Foundation @ Bin One Eleven
DESCRIPTION:All community members are invited to attend a Hartland-Lakeside Education Foundation (HLEF) Meet and Greet Social on Tuesday\, Sept. 27th in the lower level of Bin One Eleven 111\, East Capitol Drive Hartland\, from 6:00 p.m.   10:00 p.m.\n\n\n\nThis is an adult only\, casual\, cash bar event. There will be snacks and a raffle.\n\n\n\nBin One Eleven will generously donate a % of all purchases made by those mentioning the HLEF on 9/27/11.\n\n\n\nIf you can't attend this event\, please consider stopping in to make a purchase between 3:00 p.m.   10:00 p.m. on 9/27/11 and please mention HLEF.\n\n\n\nThe HLEF is accepting donated bottles of wine for their upcoming Jeans and Jewels beneift.  This would be a great opportunity to make a purchase for them! \n\n\n\nThe Hartland-Lakeside Education Foundation (HLEF) exists to provide financial support to the Hartland-Lakeside School District through fundraising activities as well as acting as a public relations liaison between the district and the community. The goal is to provide supplementary means to meet and exceed the educational goals through fundraising and donations from parents\, alumni and the community at large. The HLEF collaborates with the district and it funds PTO activities and events. The HLEF is a non-profit organization accepting tax deductible donations and company matching gifts to maintain academic excellence in the Hartland-Lakeside schools within the Hartland\, WI community.\n\n\n\nVisit our NEW website www.hartlakefoundation.com & "like" us on Facebook \n\n\n\nSupporting Hartland North\, Hartland South\, North Shore Middle School\, Hartland School of Community Learning & Green Life Charters
X-ALT-DESC;FMTTYPE=text/html:All community members are invited to attend a Hartland-Lakeside Education Foundation (HLEF) Meet and Greet Social on Tuesday\, Sept. 27th in the lower level of Bin One Eleven 111\, East Capitol Drive Hartland\, from 6:00 p.m. &ndash\; 10:00 p.m.<br />\n<br />\nThis is an adult only\, casual\, cash bar event. There will be snacks and a raffle.<br />\n<br />\nBin One Eleven will generously donate a % of all purchases made by those mentioning the HLEF on 9/27/11.<br />\n<br />\nIf you can&rsquo\;t attend this event\, please consider stopping in to make a purchase between 3:00 p.m. &ndash\; 10:00 p.m. on 9/27/11 and please mention HLEF.<br />\n<br />\nThe HLEF is accepting donated bottles of wine for their upcoming Jeans and Jewels beneift.&nbsp\; This would be a great opportunity to make a purchase for them!&nbsp\;<br />\n<br />\n<span style="font-size: 10px">The Hartland-Lakeside Education Foundation (HLEF) exists to provide financial support to the Hartland-Lakeside School District through fundraising activities as well as acting as a public relations liaison between the district and the community. The goal is to provide supplementary means to meet and exceed the educational goals through fundraising and donations from parents\, alumni and the community at large. The HLEF collaborates with the district and it funds PTO activities and events. The HLEF is a non-profit organization accepting tax deductible donations and company matching gifts to maintain academic excellence in the Hartland-Lakeside schools within the Hartland\, WI community.<br />\n<br />\n<strong>Visit our NEW website www.hartlakefoundation.com &amp\; &ldquo\;like&rdquo\; us on Facebook </strong></span><br />\n<br />\n<strong><span style="font-size: 8px">Supporting Hartland North\, Hartland South\, North Shore Middle School\, Hartland School of Community Learning&nbsp\;&amp\; Green Life Charters</span></strong><br />\n<br />\n<br />\n<br />\n
LOCATION:Lower Level Bin One Eleven\, 111 East Capitol Drive\, Hartland
UID:e.522.131763
SEQUENCE:3
DTSTAMP:20260422T093943Z
URL:https://business.hartland-wi.org/events/details/social-event-by-hartland-lakeside-education-foundation-bin-one-eleven-09-27-2011-131763
END:VEVENT

END:VCALENDAR
