BEGIN:VCALENDAR
VERSION:2.0
PRODID:-//ChamberMaster//Event Calendar 2.0//EN
METHOD:PUBLISH
X-PUBLISHED-TTL:P3D
REFRESH-INTERVAL:P3D
CALSCALE:GREGORIAN
BEGIN:VEVENT
DTSTART:20170617T230000Z
DTEND:20170618T053000Z
X-MICROSOFT-CDO-ALLDAYEVENT:FALSE
SUMMARY:SNOBFEST
DESCRIPTION:Beer Snobs Ale & Eats\n\npresents\n\nSNOBFEST\n\nJune 17\, 2017\n\n6:00 pm - 12:30 am\n\n122 Cottonwood Avenue\, Hartland\n\n\n\nMusic by "Sensations" from 8-midnight\n\n\n\nBeer:  30 craft beers on tap\n\nFood:  Served until 11 pm
X-ALT-DESC;FMTTYPE=text/html:<div style="text-align: center\;"><span style="color:#0000CD\;"><strong>Beer Snobs Ale &amp\; Eats<br />\npresents</strong></span></div>\n\n<h2 style="font-style: italic\; text-align: center\;"><span style="color:#0000CD\;"><strong>SNOBFEST</strong></span></h2>\n\n<div style="text-align: center\;"><strong><span style="color:#FF0000\;">June 17\, 2017<br />\n6:00 pm - 12:30 am</span><br />\n<span style="color:#FF0000\;">122 Cottonwood Avenue\, Hartland<br />\n<br />\nMusic by &quot\;Sensations&quot\;&nbsp\;from 8-midnight<br />\n<br />\nBeer: &nbsp\;30 craft beers on tap<br />\nFood: &nbsp\;Served until 11 pm</span></strong></div>\n
LOCATION:Beer Snobs Ale and Eats 122 Cottonwood Avenue Hartland\, WI 53029
UID:e.522.134852
SEQUENCE:3
DTSTAMP:20260423T063652Z
URL:https://business.hartland-wi.org/events/details/snobfest-134852
END:VEVENT

END:VCALENDAR
