BEGIN:VCALENDAR
VERSION:2.0
PRODID:-//ChamberMaster//Event Calendar 2.0//EN
METHOD:PUBLISH
X-PUBLISHED-TTL:P3D
REFRESH-INTERVAL:P3D
CALSCALE:GREGORIAN
BEGIN:VEVENT
DTSTART:20120502T000000Z
DTEND:20120502T020000Z
X-MICROSOFT-CDO-ALLDAYEVENT:FALSE
SUMMARY:SnackHealthy Tasting Event
DESCRIPTION:Exciting Snack Healthy Announcement\n\n	 \n\n\nJoin us for a "once in a lifetime" Snack Healthy Tasting & Business Opportunity Event. Samples of all the delicious snacks will be available for tasting along with door prizes and special offers.\n\n\n\nPersonally meet CEO Katherine West and Chairman William Alverson. Listen to them speak about Snack Healthy products and company - a hot new start up business focusing on "Better for you Food Choices".  Ms West will discuss the amazing growth since the official launch late last year\, both in products and brand partners. Additionally\, Kathy will share the Snack Healthy mission of helping people achieve their personal and financial dreams by offering great tasting\, healthy snacks and a home-based business model.\n\n\n\nCall or email today to reserve a spot and get directions.
X-ALT-DESC;FMTTYPE=text/html:<div style="text-align: center">\n	<span style="font-size: 16px"><span style="background-color: lime">Exciting Snack Healthy Announcement</span></span></div>\n<div style="text-align: center">\n	&nbsp\;</div>\n<br />\nJoin us for a &quot\;once in a lifetime&quot\; Snack Healthy Tasting &amp\; Business Opportunity Event. Samples of all the delicious snacks will be available for tasting along with door prizes and special offers.<br />\n<br />\nPersonally meet CEO Katherine West and Chairman William Alverson. Listen to them speak about Snack Healthy products and company - a hot new start up business focusing on &quot\;Better for you Food Choices&quot\;.&nbsp\; Ms West will discuss the amazing growth since the official launch late last year\, both in products and brand partners. Additionally\, Kathy will share the Snack Healthy mission of helping people achieve their personal and financial dreams by offering great tasting\, healthy snacks and a home-based business model.<br />\n<br />\nCall or email today to reserve a spot and get directions.
LOCATION:Lien Resort Acres in Lake Country Call or email to reserve a spot and get directions
UID:e.522.131953
SEQUENCE:3
DTSTAMP:20260421T161423Z
URL:https://business.hartland-wi.org/events/details/snackhealthy-tasting-event-05-01-2012-131953
END:VEVENT

END:VCALENDAR
