BEGIN:VCALENDAR
VERSION:2.0
PRODID:-//ChamberMaster//Event Calendar 2.0//EN
METHOD:PUBLISH
X-PUBLISHED-TTL:P3D
REFRESH-INTERVAL:P3D
CALSCALE:GREGORIAN
BEGIN:VEVENT
DTSTART:20180818T170000Z
DTEND:20180818T200000Z
X-MICROSOFT-CDO-ALLDAYEVENT:FALSE
SUMMARY:Small Business Burn Expo
DESCRIPTION:Join us in our very first Burn Small Business Saturday Expo.\n\nFree admission! Be prepared to shop! ?? \n\n\n\nThis is open to the public so feel free to bring your family\, friends\, neighbor\, first date\, ect..\n\n\n\nInterested in being a vendor? Email lakecountry@burnbootcamp.com for additional information!
X-ALT-DESC;FMTTYPE=text/html:<span style="color:rgb(29\, 33\, 41)\; font-family:helvetica\,arial\,sans-serif\; font-size:14px">Join us in our very first Burn Small Business Saturday Expo.</span><br />\n<span style="color:rgb(29\, 33\, 41)\; font-family:helvetica\,arial\,sans-serif\; font-size:14px">Free admission! Be prepared to shop! ??&nbsp\;</span><br />\n<br />\n<span style="color:rgb(29\, 33\, 41)\; font-family:helvetica\,arial\,sans-serif\; font-size:14px">This is open to the public so feel free to bring your family\, friends\, neighbor\, first date\, ect..</span><br />\n<br />\n<span style="color:rgb(29\, 33\, 41)\; font-family:helvetica\,arial\,sans-serif\; font-size:14px">Interested in being a vendor? Email lakecountry@burnbootcamp.com for additional information!</span>
LOCATION:Burn Boot Camp - Lake Country W248 N5250 Executive Drive\, Sussex 53089
UID:e.522.137504
SEQUENCE:3
DTSTAMP:20260424T055121Z
URL:https://business.hartland-wi.org/events/details/small-business-burn-expo-137504
END:VEVENT

END:VCALENDAR
