BEGIN:VCALENDAR
VERSION:2.0
PRODID:-//ChamberMaster//Event Calendar 2.0//EN
METHOD:PUBLISH
X-PUBLISHED-TTL:P3D
REFRESH-INTERVAL:P3D
CALSCALE:GREGORIAN
BEGIN:VEVENT
DTSTART:20180501T130000Z
DTEND:20180501T150000Z
X-MICROSOFT-CDO-ALLDAYEVENT:FALSE
SUMMARY:Sleep Disorders: Too Tired to Think? Summit Senior Breakfast Club
DESCRIPTION:Sleep Disorders:  Too Tired to Think?\n\nSummit Senior Breakfast Club\n\n\n\nIs it hard for you to fall asleep or stay asleep through the night?  Do you wake up feeling tired or do you feel very sleepy during the day\, even if you have had enough sleep?  If so\, you might have a treatable sleep disorder.  Fawad Khan\, MD\, will provide an overview of the symptoms\, diagnosis and treatment options for common sleep disorders such as obstructive sleep apnea\, restless leg syndrome and narcolepsy.  Get tips on good sleep hygien-useful hints that will help you sleep.\n\n\n\nRegistration is required by phoning:  888-863-5502 or contact Trish Golden at 262-434-1248
X-ALT-DESC;FMTTYPE=text/html:<div style="text-align: center\;"><strong>Sleep Disorders:&nbsp\; Too Tired to Think?<br />\nSummit Senior Breakfast Club<br />\n<br />\nIs it hard for you to fall asleep or stay asleep through the night?&nbsp\; Do you wake up feeling tired or do you feel very sleepy during the day\, even if you have had enough sleep?&nbsp\; If so\, you might have a treatable sleep disorder.&nbsp\; Fawad Khan\, MD\, will provide an overview of the symptoms\, diagnosis and treatment options for common sleep disorders such as obstructive sleep apnea\, restless leg syndrome and narcolepsy.&nbsp\; Get tips on good sleep hygien-useful hints that will help you sleep.<br />\n<br />\nRegistration is required by phoning:&nbsp\; 888-863-5502 or contact Trish Golden at 262-434-1248</strong><br />\n&nbsp\;</div>\n
LOCATION:Aurora Medical Center Summit Draper Hall 36500 Aurora Drive Summit\, WI
UID:e.522.137196
SEQUENCE:3
DTSTAMP:20260424T011329Z
URL:https://business.hartland-wi.org/events/details/sleep-disorders-too-tired-to-think-summit-senior-breakfast-club-137196
END:VEVENT

END:VCALENDAR
