BEGIN:VCALENDAR
VERSION:2.0
PRODID:-//ChamberMaster//Event Calendar 2.0//EN
METHOD:PUBLISH
X-PUBLISHED-TTL:P3D
REFRESH-INTERVAL:P3D
CALSCALE:GREGORIAN
BEGIN:VEVENT
DTSTART:20170427T233000Z
DTEND:20170428T010000Z
X-MICROSOFT-CDO-ALLDAYEVENT:FALSE
SUMMARY:Sip\, Skim\, and Socialize In Lake Country: Books n' Bevs
DESCRIPTION:This will be the first official Books n' Bevs meeting so what we are going to do is have you bring your 3 favorite books and we can create a list of what to read each and every month! Whomever picks the book for the month will lead the discussion and determine whether the book was good or bad.\n\nIt is encouraged to bring your own bevs and feel free to share some as well. Light snacks will be provided!\n\nWe can't wait to see you here and we are really excited about this fun event!\n\n\n\nAlso join our group here! https://www.meetup.com/Books-n-Bevs-in-Lake-Country/
X-ALT-DESC;FMTTYPE=text/html:<p>This will be the first official Books n&#39\; Bevs meeting so what we are going to do is have you bring your 3 favorite books and we can create a list of what to read each and every month! Whomever picks the book for the month will lead the discussion and determine whether the book was good or bad.</p>\n\n<p>It is encouraged to bring your own bevs and feel free to share some as well. Light snacks will be provided!</p>\n\n<p>We can&#39\;t wait to see you here and we are really excited about this fun event!<br />\n<br />\nAlso join our group here!&nbsp\;https://www.meetup.com/Books-n-Bevs-in-Lake-Country/</p>\n
LOCATION:The Specific Chiropractic Center Lake Country 557 Cottonwood Ave Ste #101 Hartland\, WI 53029
UID:e.522.134850
SEQUENCE:3
DTSTAMP:20260423T032129Z
URL:https://business.hartland-wi.org/events/details/sip-skim-and-socialize-in-lake-country-books-n-bevs-134850
END:VEVENT

END:VCALENDAR
