BEGIN:VCALENDAR
VERSION:2.0
PRODID:-//ChamberMaster//Event Calendar 2.0//EN
METHOD:PUBLISH
X-PUBLISHED-TTL:P3D
REFRESH-INTERVAL:P3D
CALSCALE:GREGORIAN
BEGIN:VEVENT
DTSTART:20110915T000000Z
DTEND:20110915T020000Z
X-MICROSOFT-CDO-ALLDAYEVENT:FALSE
SUMMARY:Silpada Jewelry Fundraiser for Hartland-Lakeside Education Foundation at Bin 111
DESCRIPTION:Like to shop?  Have a love for jewelry?  Enjoy wine?  This is an evening for you!\n\n\n\nCheck out new Silpada jewelry and support the Hartland-Lakeside Education Foundation all at once!\n\n\n\nThanks to the generosity of Jill Gardetto\, Silpada Star Leader Representative\, all of the free jewelry earned from this show will be given to the HLEF for their Jeans and Jewel's Auction on Oct. 14th at the Country Springs Hotel.  50% of the proceeds earned from this show will go directly to the Jeans and Jewel's event.
X-ALT-DESC;FMTTYPE=text/html:Like to shop?&nbsp\; Have a love for jewelry?&nbsp\;&nbsp\;Enjoy wine?&nbsp\; This is an evening for you!<br />\n<br />\nCheck out new Silpada jewelry and support the Hartland-Lakeside Education Foundation all at once!<br />\n<br />\nThanks to the generosity of Jill Gardetto\, Silpada Star Leader Representative\, all of the free jewelry earned from&nbsp\;this show will be given to the HLEF for their&nbsp\;Jeans and Jewel&#39\;s Auction on Oct. 14th at the Country Springs Hotel.&nbsp\;&nbsp\;50% of&nbsp\;the proceeds earned from this show will go directly to the Jeans and Jewel&#39\;s event.<br />\n<br />\n
LOCATION:Bin One Eleven\, 111 East Capitol Drive Hartland\, WI
UID:e.522.131767
SEQUENCE:3
DTSTAMP:20260422T113400Z
URL:https://business.hartland-wi.org/events/details/silpada-jewelry-fundraiser-for-hartland-lakeside-education-foundation-at-bin-111-09-14-2011-131767
END:VEVENT

END:VCALENDAR
