BEGIN:VCALENDAR
VERSION:2.0
PRODID:-//ChamberMaster//Event Calendar 2.0//EN
METHOD:PUBLISH
X-PUBLISHED-TTL:P3D
REFRESH-INTERVAL:P3D
CALSCALE:GREGORIAN
BEGIN:VEVENT
DTSTART:20181006T000000Z
DTEND:20181006T010000Z
X-MICROSOFT-CDO-ALLDAYEVENT:FALSE
SUMMARY:Shaping Responsible Behavior
DESCRIPTION:Zion Lutheran School and the Hartland Public Library will be hosting a free seminar called "Shaping Responsible Behavior".  In this presentation\, a Licensed Professional Counselor will look at the benefits of resposible behavior\, as well as specific examples and suggestions for parents to use at they shape resposibility through tasks\, discipline\, and service.\n\nThis one hour presentation is ideal for parents of toddlers through teenagers.\n\n\n\nPresentation to be held at Zion School in the cafeteria at 1023 East Capitol Drive\, Hartland.\n\nFollow us on Facebook: www.facebook.com/zionhartland
X-ALT-DESC;FMTTYPE=text/html:Zion Lutheran School and the Hartland Public Library will be hosting a free seminar called &quot\;Shaping Responsible Behavior&quot\;.&nbsp\; In this presentation\, a Licensed Professional Counselor will look at the benefits of resposible behavior\, as well as specific examples and suggestions for parents to use at they shape resposibility through tasks\, discipline\, and service.<br />\nThis one hour presentation is ideal for parents of toddlers through teenagers.<br />\n<br />\nPresentation to be held at Zion School in the cafeteria at 1023 East Capitol Drive\, Hartland.<br />\nFollow us on Facebook: www.facebook.com/zionhartland<br />\n&nbsp\;
LOCATION:Zion Lutheran School 1023 E Capitol Drive Hartland\, WI. 53029
UID:e.522.137587
SEQUENCE:3
DTSTAMP:20260424T090351Z
URL:https://business.hartland-wi.org/events/details/shaping-responsible-behavior-137587
END:VEVENT

END:VCALENDAR
