BEGIN:VCALENDAR
VERSION:2.0
PRODID:-//ChamberMaster//Event Calendar 2.0//EN
METHOD:PUBLISH
X-PUBLISHED-TTL:P3D
REFRESH-INTERVAL:P3D
CALSCALE:GREGORIAN
BEGIN:VEVENT
DTSTART:20180807T130000Z
DTEND:20180807T150000Z
X-MICROSOFT-CDO-ALLDAYEVENT:FALSE
SUMMARY:Senior Eye Health: Summit Senior Breakfast Club
DESCRIPTION:Summit Senior Breakfast Club\n\nSenior Eye Health\n\n\n\nAs people get older\, it is normal for their vision to change.  Join board certified opthalmologist\, Spencer Rogers MD for a discussion on symptoms of vision loss\, cataract glaucoma and age related macular degeneration.\n\n\n\nRegistration is required by phoning:  888-863-5502 or contact Trish Golden at 262-434-1248
X-ALT-DESC;FMTTYPE=text/html:<div style="text-align: center\;"><strong>Summit Senior Breakfast Club<br />\nSenior Eye Health<br />\n<br />\nAs people get older\, it is normal for their vision to change.&nbsp\; Join board certified opthalmologist\, Spencer Rogers MD for a discussion on symptoms of vision loss\, cataract glaucoma and age related macular degeneration.<br />\n<br />\nRegistration is required by phoning:&nbsp\; 888-863-5502 or contact Trish Golden at 262-434-1248</strong></div>\n
LOCATION:Aurora Medical Center Summit - Draper Hall 36500 Aurora Drive Summit
UID:e.522.137248
SEQUENCE:3
DTSTAMP:20260424T055715Z
URL:https://business.hartland-wi.org/events/details/senior-eye-health-summit-senior-breakfast-club-137248
END:VEVENT

END:VCALENDAR
