BEGIN:VCALENDAR
VERSION:2.0
PRODID:-//ChamberMaster//Event Calendar 2.0//EN
METHOD:PUBLISH
X-PUBLISHED-TTL:P3D
REFRESH-INTERVAL:P3D
CALSCALE:GREGORIAN
BEGIN:VEVENT
DTSTART:20190101T160000Z
DTEND:20190101T180000Z
X-MICROSOFT-CDO-ALLDAYEVENT:FALSE
SUMMARY:Senior Breakfast Club: Welcoming 2019 Breakfast & Bingo
DESCRIPTION:Summit Senior Breakfast Club\n\nWelcoming 2019:  Breakfast & Bingo\n\nJoin us and welcome in the New Year at Aurora Medical center Summit.  As it turns out bingo is more than just simple fun.  Researchers have found that playing games has multiple health benefits for the elderly.  It takes concentration which improves listening and short term memory skills and it promotes socialization which is essential for seniors to maintain a happy and healthy lifestyle.\n\n\n\nRegistration is required by phoning:  888-863-5502 or contact Trish Golden at 262-434-1248\n\n\n\nTuesday\, January 1\, 2019\n\n10 to 12 p.m.
X-ALT-DESC;FMTTYPE=text/html:<div style="text-align: center\;"><strong>Summit Senior Breakfast Club<br />\nWelcoming 2019:&nbsp\; Breakfast &amp\; Bingo<br />\nJoin us and welcome in the New Year at Aurora Medical center Summit.&nbsp\; As it turns out bingo is more than just simple fun.&nbsp\; Researchers have found that playing games has multiple health benefits for the elderly.&nbsp\; It takes concentration which improves listening and short term memory skills and it promotes socialization which is essential for seniors to maintain a happy and healthy lifestyle.<br />\n<br />\nRegistration is required by phoning:&nbsp\; 888-863-5502 or contact Trish Golden at 262-434-1248<br />\n<br />\nTuesday\, January 1\, 2019<br />\n10 to 12 p.m.</strong><br />\n&nbsp\;</div>\n
LOCATION:Aurora Medical Center Summit
UID:e.522.137589
SEQUENCE:3
DTSTAMP:20260424T135444Z
URL:https://business.hartland-wi.org/events/details/senior-breakfast-club-welcoming-2019-breakfast-bingo-137589
END:VEVENT

END:VCALENDAR
