BEGIN:VCALENDAR
VERSION:2.0
PRODID:-//ChamberMaster//Event Calendar 2.0//EN
METHOD:PUBLISH
X-PUBLISHED-TTL:P3D
REFRESH-INTERVAL:P3D
CALSCALE:GREGORIAN
BEGIN:VEVENT
DTSTART:20190321T210000Z
DTEND:20190321T230000Z
X-MICROSOFT-CDO-ALLDAYEVENT:FALSE
SUMMARY:Savvy Caregiver 6 - Week Program
DESCRIPTION:Savvy Caregiver 6 - Week Program\n\nMemory Loss\, Dementia and Alzheimer's\n\nBased on research by experts in caregiver techniques\, this six-week course provides clinical level training for family caregivers\, going beyond introductory education programs.  Participants learn:  Personal knowledge\, skills and caregiver outlook\, skills to assess abilities of someone with dementia\, confidence to set and alter care giving goals\, strategies to manage activities of daily living and perspective on the course of Alzheimer's and related disorders.\n\n\n\nRegistration is required by phoning th Alzheimer's Association at:  800-272-3900
X-ALT-DESC;FMTTYPE=text/html:<div style="text-align: center\;"><strong>Savvy Caregiver 6 - Week Program<br />\nMemory Loss\, Dementia and Alzheimer&#39\;s<br />\nBased on research by experts in caregiver techniques\, this six-week course provides clinical level training for family caregivers\, going beyond introductory education programs.&nbsp\; Participants learn:&nbsp\; Personal knowledge\, skills and caregiver outlook\, skills to assess abilities of someone with dementia\, confidence to set and alter care giving goals\, strategies to manage activities of daily living and perspective on the course of Alzheimer&#39\;s and related disorders.<br />\n<br />\nRegistration is required by phoning th Alzheimer&#39\;s Association at:&nbsp\; 800-272-3900</strong><br />\n<br />\n<br />\n&nbsp\;</div>\n
LOCATION:Aurora Medical Center Summit Gifford Hall
UID:e.522.137603
SEQUENCE:3
DTSTAMP:20260421T104206Z
URL:https://business.hartland-wi.org/events/details/savvy-caregiver-6-week-program-03-21-2019-137603
END:VEVENT

END:VCALENDAR
