BEGIN:VCALENDAR
VERSION:2.0
PRODID:-//ChamberMaster//Event Calendar 2.0//EN
METHOD:PUBLISH
X-PUBLISHED-TTL:P3D
REFRESH-INTERVAL:P3D
CALSCALE:GREGORIAN
BEGIN:VEVENT
DTSTART;VALUE=DATE:20160605
DTEND;VALUE=DATE:20160606
TRANSP:TRANSPARENT
X-MICROSOFT-CDO-ALLDAYEVENT:TRUE
SUMMARY:Santana Dotson Celebrity Kickball Tournament
DESCRIPTION:3rd Annual Wales Community Park\n\nSantana Dotson Celebrity Kickball Tournament\n\n     and First Annual Bags Tournament\n\nJoin Santana in a day of great kickball\, bags throwing\, cold beer\, good food and incredible silent auction items all to benefit the Back Pack Coalition of Southeastern Wisconsin\, aiding needy kids in the community.\n\n\n\nFood provided by Bucky's Lakeside - Lake Country's #1 Neighborhood Pub & Grill
X-ALT-DESC;FMTTYPE=text/html:<div style="text-align: center\;"><strong><span style="color: rgb(255\, 0\, 0)\;">&nbsp\;&nbsp\;&nbsp\;&nbsp\;&nbsp\;&nbsp\;&nbsp\;&nbsp\; 3rd Annual Wales Community Park</span><br />\n<span style="color: rgb(0\, 0\, 205)\;"><em><span style="font-family: comic sans ms\;">Santana Dotson Celebrity Kickball Tournament<br />\n&nbsp\;&nbsp\;&nbsp\;&nbsp\;<u> and First Annual Bags Tournament</u></span></em></span></strong><br />\n<span style="font-family: arial\;"><span style="font-size: 12px\;">Join Santana in a day of great kickball\, bags throwing\, cold beer\, good food and incredible silent auction items all to benefit the Back Pack Coalition of Southeastern Wisconsin\, aiding needy kids in the community.</span></span><br />\n<br />\n<span style="font-size: 14px\;"><em><strong><span style="color: rgb(255\, 0\, 0)\;"><span style="font-family: comic sans ms\;">Food provided by Bucky&#39\;s Lakeside - Lake Country&#39\;s #1 Neighborhood Pub &amp\; Grill</span></span></strong></em></span></div>\n
LOCATION:Wales Community Park 600 E. Brandybrook Rd.
UID:e.522.133802
SEQUENCE:3
DTSTAMP:20260422T093854Z
URL:https://business.hartland-wi.org/events/details/santana-dotson-celebrity-kickball-tournament-06-05-2016-133802
END:VEVENT

END:VCALENDAR
