BEGIN:VCALENDAR
VERSION:2.0
PRODID:-//ChamberMaster//Event Calendar 2.0//EN
METHOD:PUBLISH
X-PUBLISHED-TTL:P3D
REFRESH-INTERVAL:P3D
CALSCALE:GREGORIAN
BEGIN:VEVENT
DTSTART:20110722T000000Z
DTEND:20110722T010000Z
X-MICROSOFT-CDO-ALLDAYEVENT:FALSE
SUMMARY:RULES OF THE ROAD - FUNDAMENTALS OF INVESTING
DESCRIPTION:Learn fundamental concepts of investing and potential strategies to help build wealth !
X-ALT-DESC;FMTTYPE=text/html:Learn&nbsp\;fundamental concepts of investing and potential strategies to help build wealth !
LOCATION:Emil Weatherbee\, Financial Advisor - Edward Jones 862 Rose Drive\, Hartland\, WI 53029
UID:e.522.131727
SEQUENCE:3
DTSTAMP:20260420T104726Z
URL:https://business.hartland-wi.org/events/details/rules-of-the-road-fundamentals-of-investing-07-21-2011-131727
END:VEVENT

END:VCALENDAR
