BEGIN:VCALENDAR
VERSION:2.0
PRODID:-//ChamberMaster//Event Calendar 2.0//EN
METHOD:PUBLISH
X-PUBLISHED-TTL:P3D
REFRESH-INTERVAL:P3D
CALSCALE:GREGORIAN
BEGIN:VEVENT
DTSTART:20131024T230000Z
DTEND:20131025T000000Z
X-MICROSOFT-CDO-ALLDAYEVENT:FALSE
SUMMARY:River Cruising Show at Lake Country Travel
DESCRIPTION:RIVER CRUISING\n\n\n\nPresented by Avalon Waterways & Lake Country Travel\n\n\n\n\n\n\n\nJOIN US FOR A WINE & CHEESE RECEPTION\n\n\n\nBe part of a special presentation featuring Avalon Waterways\, part of the Globus Family of Brands.\n\n\n\n* Learn all about River Cruise Itineraries Worldwide\n\n(Europe   Asia   Egypt   Galapagos)\n\n\n\n\n\n* What you can expect on an Avalon river cruise\n\n\n\n* What is new for 2014\n\n\n\n* Land Excursions at every stop\n\n\n\n* Special offers just for attending
X-ALT-DESC;FMTTYPE=text/html:<br />\nRIVER CRUISING<br />\n<br />\nPresented by Avalon Waterways &amp\; Lake Country Travel<br />\n<br />\n<br />\n<br />\nJOIN US FOR A WINE &amp\; CHEESE RECEPTION<br />\n<br />\nBe part of a special presentation featuring Avalon Waterways\, part of the Globus Family of Brands.<br />\n<br />\n* Learn all about River Cruise Itineraries Worldwide<br />\n(Europe &ndash\; Asia &ndash\; Egypt &ndash\; Galapagos)<br />\n<br />\n<br />\n* What you can expect on an Avalon river cruise<br />\n<br />\n* What is new for 2014<br />\n<br />\n* Land Excursions at every stop<br />\n<br />\n* Special offers just for attending<br />\n
LOCATION:Lake Country Travel 101 W Wisconsin Ave Pewaukee\, WI 53072
UID:e.522.132766
SEQUENCE:3
DTSTAMP:20260420T124342Z
URL:https://business.hartland-wi.org/events/details/river-cruising-show-at-lake-country-travel-10-24-2013-132766
END:VEVENT

END:VCALENDAR
