BEGIN:VCALENDAR
VERSION:2.0
PRODID:-//ChamberMaster//Event Calendar 2.0//EN
METHOD:PUBLISH
X-PUBLISHED-TTL:P3D
REFRESH-INTERVAL:P3D
CALSCALE:GREGORIAN
BEGIN:VEVENT
DTSTART:20151119T170000Z
DTEND:20151119T190000Z
X-MICROSOFT-CDO-ALLDAYEVENT:FALSE
SUMMARY:Retirement Seminar Series - Insurance
DESCRIPTION:IS RETIREMENT IN YOUR FUTURE?\n\n\n\nThe Hartland Chamber of Commerce Presents: A Series of Retirement Seminars\n\nA continuation of this 3-part series of discussions designed for retiring business owners and employees OR ANYONE seeking information covering the legal\, insurance and investment ramifications to consider before retirement. Even if you are just starting your career\, you will learn steps to take into consideration for the future!\n\n\n\nThis Month:\n\nNovember 19\, 2015 - Insurance\n\nHealth Care in Retirement - Insurance Options and Medicare\n\nCosts of Extended Care and alternative ways to pay for that care\n\nUsing life insurance to effectively transition into retirement and business continuation\n\n\n\nFollow Up Seminar:\n\nDecember 3\, 2015 - Investments\n\n\n\n11:00 am - 1:00 pm\n\nHartland Fire Department Community Room\n\n122 Lawn Street\, Hartland\n\n\n\nThe Retirement Seminar Series is open to the public\n\nRegister separately for each seminar\n\n$15/Member per seminar\n\n$20/Non-member per seminar\n\n(Box lunch provided)\n\n\n\n \n\n\n\n\n\n \n\nNovember 19\, 2015 - Insurance Guest Speaker\n\nCindy Bong\, Cindy Bong\, Global Financial Group\n\n\n\nContinuing series:\n\n\n\nDecember 3\, 2015 - Investments Guest Speakers\n\n     Jim Liebert\, Liebert Financial Services\n\n     Emil Weatherbee\, Global View Capital Advisors
X-ALT-DESC;FMTTYPE=text/html:<div style="text-align: center\;"><span style="font-size: 16px\;"><em><span style="color: rgb(0\, 0\, 205)\;"><strong>IS RETIREMENT IN YOUR FUTURE?</strong></span></em></span><br />\n<br />\n<strong>The Hartland Chamber&nbsp\;of Commerce Presents:&nbsp\;<u>A Series of Retirement Seminars</u><br />\nA continuation of this 3-part series of discussions designed for retiring business owners and employees <u>OR ANYONE</u> seeking information&nbsp\;covering the legal\, insurance and investment ramifications to consider before retirement. Even if you are just starting your career\, you will learn steps to take into consideration for the future!</strong><br />\n<br />\n<strong><em><span style="color: rgb(0\, 0\, 255)\;">This Month:<br />\nNovember 19\, 2015 - Insurance<br />\nHealth Care in Retirement - Insurance Options and Medicare<br />\nCosts of Extended Care and alternative ways to pay for that care<br />\nUsing life insurance to effectively transition into retirement and business continuation</span></em><br />\n<br />\nFollow Up Seminar:<br />\nDecember 3\, 2015 - Investments<br />\n<br />\n11:00 am - 1:00 pm<br />\nHartland Fire Department Community Room<br />\n122 Lawn Street\, Hartland</strong><br />\n<br />\n<em><span style="font-size: 14px\;"><span style="color: rgb(255\, 0\, 0)\;"><strong>The Retirement Seminar&nbsp\;Series is open to the public</strong></span></span></em><br />\n<strong><u>Register separately for each seminar</u><br />\n$15/Member per seminar<br />\n$20/Non-member per seminar<br />\n(Box lunch provided)</strong><br />\n<br />\n&nbsp\;<br />\n<br />\n<br />\n&nbsp\;</div>\n\n<div><strong><u>November 19\, 2015 - Insurance&nbsp\;Guest Speaker</u><br />\n<span style="font-family: arial\;">Cindy Bong\, <span arial="" new="" times="">Cindy Bong\, Global Financial Group</span></span></strong><br />\n<br />\n<span style="color: rgb(255\, 0\, 0)\;"><em><strong>Continuing&nbsp\;series:</strong></em></span><br />\n<br />\n<strong><u>December 3\, 2015 - Investments Guest Speakers</u><br />\n&nbsp\;&nbsp\;&nbsp\;&nbsp\; Jim Liebert\, Liebert Financial Services<br />\n&nbsp\;&nbsp\;&nbsp\;&nbsp\; Emil Weatherbee\, Global View&nbsp\;Capital Advisors</strong><br />\n&nbsp\;</div>\n\n<div>&nbsp\;</div>\n<strong>&nbsp\;</strong>
LOCATION:Hartland Fire Department Community Room 122 Lawn Street\, Hartland
UID:e.522.133303
SEQUENCE:3
DTSTAMP:20260421T213016Z
URL:https://business.hartland-wi.org/events/details/retirement-seminar-series-insurance-11-19-2015-133303
END:VEVENT

END:VCALENDAR
