BEGIN:VCALENDAR
VERSION:2.0
PRODID:-//ChamberMaster//Event Calendar 2.0//EN
METHOD:PUBLISH
X-PUBLISHED-TTL:P3D
REFRESH-INTERVAL:P3D
CALSCALE:GREGORIAN
BEGIN:VEVENT
DTSTART:20150321T000000Z
DTEND:20150321T020000Z
X-MICROSOFT-CDO-ALLDAYEVENT:FALSE
SUMMARY:re:Voiced a cappella experience
DESCRIPTION:Concert\n\nre: Voiced a cappella experience\n\n      \n\n\n\nClick here for more information
X-ALT-DESC;FMTTYPE=text/html:<u>Concert</u><br />\nre: Voiced a cappella experience<br />\n&nbsp\;&nbsp\;&nbsp\;&nbsp\;&nbsp\;&nbsp\;<br />\n<br />\nClick <a href="http://cloud.chambermaster.com/userfiles/UserFiles/chambers/522/File/LakeCountrySchoolreVoicedPoster.pdf">here</a> for more information<br />\n&nbsp\;
LOCATION:Lake Country School 1800 Vettelson Road Hartland\, WI 53029
UID:e.522.133132
SEQUENCE:3
DTSTAMP:20260421T075746Z
URL:https://business.hartland-wi.org/events/details/re-voiced-a-cappella-experience-03-20-2015-133132
END:VEVENT

END:VCALENDAR
