BEGIN:VCALENDAR
VERSION:2.0
PRODID:-//ChamberMaster//Event Calendar 2.0//EN
METHOD:PUBLISH
X-PUBLISHED-TTL:P3D
REFRESH-INTERVAL:P3D
CALSCALE:GREGORIAN
BEGIN:VEVENT
DTSTART:20140321T000000Z
DTEND:20140321T020000Z
X-MICROSOFT-CDO-ALLDAYEVENT:FALSE
SUMMARY:re:Voiced A Cappella Experience
DESCRIPTION:re:Voiced Concert\n\nLake Country School Cafetorium\n\n\n\nadditional information can be found here
X-ALT-DESC;FMTTYPE=text/html:<div style="text-align: center\;"><strong><font color="#ff0000">re:Voiced Concert<br />\nLake Country School Cafetorium</font></strong><br />\n<br />\n<a href="http://cloud.chambermaster.com/userfiles/UserFiles/chambers/522/File/reVoicedConcertTicketOrderForm.pdf">additional information can be found <span style="color: rgb(255\, 0\, 0)\;">here</span></a><br />\n<br />\n&nbsp\;</div>\n
LOCATION:Lake Country School Cafetorium 1800 Vettelson Rd. Hartland\, WI 53029
UID:e.522.132826
SEQUENCE:3
DTSTAMP:20260420T180603Z
URL:https://business.hartland-wi.org/events/details/re-voiced-a-cappella-experience-03-20-2014-132826
END:VEVENT

END:VCALENDAR
