BEGIN:VCALENDAR
VERSION:2.0
PRODID:-//ChamberMaster//Event Calendar 2.0//EN
METHOD:PUBLISH
X-PUBLISHED-TTL:P3D
REFRESH-INTERVAL:P3D
CALSCALE:GREGORIAN
BEGIN:VEVENT
DTSTART:20111105T120000Z
DTEND:20111105T190000Z
X-MICROSOFT-CDO-ALLDAYEVENT:FALSE
SUMMARY:R C Insurance Drive & Drop for the Food Pantry of Waukesha County
DESCRIPTION:R C Insurance is proud to sponsor a Drive & Drop event benefiting the Food Pantry of Waukesha County.\n\n	\n\n	  Come help us reach our goal to fill a Food Pantry van full of non-perishables...just in time for Thanksgiving!!\n\n	\n\n	  All food items are welcome\; however at this time of year\, the following items are especially appreciated:\n\n	Cans of Vegetables\n\n	Cans of Cranberry Sauce\n\n	Boxes of Instant Potatoes\n\n	Boxes of Stuffing Mix\n\n	Jars of Applesauce or Cans of Fruit\n\n	Boxes of Brownie Mix\n\n	Boxes of Macaroni & Cheese\n\n	\n\n	Refreshments will be provided for our visitors!
X-ALT-DESC;FMTTYPE=text/html:<p style="text-align: center">\n	<span style="font-size: 16px"><strong>R C Insurance </strong>is proud to sponsor a <span style="color: #ff0000">Drive &amp\; Drop </span>event benefiting the <strong>Food Pantry of Waukesha County</strong>.</span></p>\n<p style="text-align: center">\n	<br />\n	<span style="font-size: 14px"><span _fck_bookmark="1" style="display: none">&nbsp\;</span><span _fck_bookmark="1" style="display: none">&nbsp\;</span>Come help us reach our goal to fill a Food Pantry van full of non-perishables...just in time for Thanksgiving!!</span><br />\n	<br />\n	<span _fck_bookmark="1" style="display: none">&nbsp\;</span><span _fck_bookmark="1" style="display: none">&nbsp\;</span><span style="font-size: 14px">All food items are welcome\; however at this time of year\, the following items are especially appreciated:</span></p>\n<p style="text-align: center">\n	<strong>Cans of Vegetables<br />\n	Cans of Cranberry Sauce<br />\n	Boxes of Instant Potatoes<br />\n	Boxes of Stuffing Mix<br />\n	Jars of Applesauce or Cans of Fruit<br />\n	Boxes of Brownie Mix<br />\n	Boxes of Macaroni &amp\; Cheese</strong><br />\n	<br />\n	Refreshments will be provided for our visitors!<br />\n	<br />\n	&nbsp\;</p>\n
LOCATION:R C Insurance 1320 Walnut Ridge Dr. Hartland\, WI 53029
UID:e.522.131776
SEQUENCE:3
DTSTAMP:20260422T023933Z
URL:https://business.hartland-wi.org/events/details/r-c-insurance-drive-drop-for-the-food-pantry-of-waukesha-county-11-05-2011-131776
END:VEVENT

END:VCALENDAR
