BEGIN:VCALENDAR
VERSION:2.0
PRODID:-//ChamberMaster//Event Calendar 2.0//EN
METHOD:PUBLISH
X-PUBLISHED-TTL:P3D
REFRESH-INTERVAL:P3D
CALSCALE:GREGORIAN
BEGIN:VEVENT
DTSTART:20110812T153000Z
DTEND:20110812T170000Z
X-MICROSOFT-CDO-ALLDAYEVENT:FALSE
SUMMARY:Protecting the Gift Parent/Child Safety Seminar
DESCRIPTION:In response to the recent incident in Nixon Park\, Lake Country Martial Arts will offer a free four week safety course in both an adult only and an adult/child format. Adults will read and discuss Gavin de Becker's Protecting the Gift as well as learn simple\, effective techniques for self and family defense. Children ages 6-12 will learn personal safety and awareness skills as well as basic self defense techniques. Parents\, grand parents\, care givers\, baby sitters\, and educators are urged to attend. Everyone is welcome. Classes will be held in the Family Resource Room at Lake Country Martial Arts\, 350 Cottonwood Ave. Hartland. For an event flier you can post or forward\, please visit http://www.lakecountrymartialarts.com/id145.html.
X-ALT-DESC;FMTTYPE=text/html:In response to the recent incident in Nixon Park\, Lake Country Martial Arts will offer a free four week safety course in both an adult only and an adult/child format. Adults will read and discuss Gavin de Becker&#39\;s Protecting the Gift as well as learn simple\, effective techniques for self and family defense. Children ages 6-12 will learn personal safety and awareness skills as well as basic self defense techniques. Parents\, grand parents\, care givers\, baby sitters\, and educators are urged to attend. Everyone is welcome. Classes will be held in the Family Resource Room at Lake Country Martial Arts\, 350 Cottonwood Ave. Hartland. For an event flier you can post or forward\, please visit http://www.lakecountrymartialarts.com/id145.html. 
LOCATION:350 Cottonwood Ave
UID:e.522.131738
SEQUENCE:3
DTSTAMP:20260420T125540Z
URL:https://business.hartland-wi.org/events/details/protecting-the-gift-parent-child-safety-seminar-08-12-2011-131738
END:VEVENT

END:VCALENDAR
