BEGIN:VCALENDAR
VERSION:2.0
PRODID:-//ChamberMaster//Event Calendar 2.0//EN
METHOD:PUBLISH
X-PUBLISHED-TTL:P3D
REFRESH-INTERVAL:P3D
CALSCALE:GREGORIAN
BEGIN:VEVENT
DTSTART:20140208T150000Z
DTEND:20140208T170000Z
X-MICROSOFT-CDO-ALLDAYEVENT:FALSE
SUMMARY:ProHealth Care LakeWalk for Cancer Kick-Off Meeting
DESCRIPTION:Join us as we kick off the ProHealth Care Walks for Cancer!  Learn more about the LakeWalk for Cancer\, and how you can raise funds to support local cancer research\, education and more right here in Oconomowoc.\n\n				 \n\n				Attend one of our sessions to learn more about this great community event\, how you can create a team of co-workers\, family\, friends or neighbors and register!
X-ALT-DESC;FMTTYPE=text/html:<table align="left" cellpadding="0" cellspacing="0" hspace="0" vspace="0">\n	<tbody>\n		<tr>\n			<td align="left" style="padding: 0in 9pt\; border: rgb(0\, 0\, 0)\; vertical-align: top\;">\n				<span style="font-size: medium\;"><span style="font-family: calibri\;">Join us as we kick off the ProHealth Care Walks for Cancer!&nbsp\; Learn more about the LakeWalk for Cancer\, and how you can raise funds to support local cancer research\, education and more right here in Oconomowoc.</span></span><br />\n				&nbsp\;<br />\n				<span style="font-size: medium\;"><span style="font-family: calibri\;">Attend one of our sessions to learn more about this great community event\, how you can create a team of co-workers\, family\, friends or neighbors and register!</span></span></td>\n		</tr>\n	</tbody>\n</table>\n<div style="clear: both\;">\n	&nbsp\;</div>\n
LOCATION:ProHealth Care Foundation 869 Summit Ave. Oconomowoc\, WI 53066
UID:e.522.132814
SEQUENCE:3
DTSTAMP:20260420T182056Z
URL:https://business.hartland-wi.org/events/details/prohealth-care-lakewalk-for-cancer-kick-off-meeting-02-08-2014-132814
END:VEVENT

END:VCALENDAR
