BEGIN:VCALENDAR
VERSION:2.0
PRODID:-//ChamberMaster//Event Calendar 2.0//EN
METHOD:PUBLISH
X-PUBLISHED-TTL:P3D
REFRESH-INTERVAL:P3D
CALSCALE:GREGORIAN
BEGIN:VEVENT
DTSTART:20140927T140000Z
DTEND:20140927T170000Z
X-MICROSOFT-CDO-ALLDAYEVENT:FALSE
SUMMARY:ProHealth Care Hartland Open House
DESCRIPTION:Meet our physicians and providers\n\n\n\nJoin us for:\n\n	Face painting\, pumpkin decorating\, and horse-drawn hay rides\n	Free health screenings\n	Free back packs (while supplies last)\n	Free first aid kids (while supplies last)\n\nFor more information call 262-928-2745.
X-ALT-DESC;FMTTYPE=text/html:Meet our physicians and providers<br />\n<br />\nJoin us for:\n<ul>\n	<li>Face painting\, pumpkin decorating\, and horse-drawn hay rides</li>\n	<li>Free health screenings</li>\n	<li>Free back packs (while supplies last)</li>\n	<li>Free first aid kids (while supplies last)</li>\n</ul>\nFor more information call 262-928-2745.
LOCATION:1500 Walnut Ridge Drive\, Hartland
UID:e.522.133071
SEQUENCE:3
DTSTAMP:20260420T213734Z
URL:https://business.hartland-wi.org/events/details/prohealth-care-hartland-open-house-09-27-2014-133071
END:VEVENT

END:VCALENDAR
