BEGIN:VCALENDAR
VERSION:2.0
PRODID:-//ChamberMaster//Event Calendar 2.0//EN
METHOD:PUBLISH
X-PUBLISHED-TTL:P3D
REFRESH-INTERVAL:P3D
CALSCALE:GREGORIAN
BEGIN:VEVENT
DTSTART:20190222T170000Z
DTEND:20190222T180000Z
X-MICROSOFT-CDO-ALLDAYEVENT:FALSE
SUMMARY:Preventing Identity Theft and Current Scams
DESCRIPTION:PREVENTING IDENTITY THEFT \n\nAND CURRENT SCAMS  \nA PRESENTATION BY DETECTIVE PAULA HOFFA \n\nOF THE HARTLAND POLICE DEPARTMENT \n\nON IDENTITY THEFT AND CURRENT SCAMS \n\n\n\nFebruary 22\, 2019 or March 22\, 2019\n\n\n\n11:00 AM to 12:00 PM\n\n\n\n Village Hall (Board Room)\n\n210 Cottonwood Ave\n\nHartland\, WI  53029\n\nSeating is limited \n\n\n\nSENIOR CITIZENS ARE ESPECIALLY ENCOURAGED TO ATTEND\n\nTAKE HOME MATERIALS PROVIDED\n\n\n\nRSVP:  Call 262-367-2323 or Email paulah@villageofhartland.com
X-ALT-DESC;FMTTYPE=text/html:<strong><span style="color:red\;"><span style="font-family:arial\,sans-serif\;"><span style="font-size:26.0pt\;">PREVENTING IDENTITY THEFT </span></span></span></strong><br />\n<strong><span style="color:red\;"><span style="font-family:arial\,sans-serif\;"><span style="font-size:26.0pt\;">AND CURRENT SCAMS&nbsp\; </span></span></span></strong>\n<div style="text-align: center\;"><strong>A PRESENTATION BY DETECTIVE PAULA HOFFA&nbsp\;<br />\nOF THE HARTLAND POLICE DEPARTMENT&nbsp\;<br />\nON IDENTITY THEFT AND CURRENT SCAMS&nbsp\;</strong></div>\n\n<div style="text-align: center\;"><br />\nFebruary 22\, 2019 or March 22\, 2019<br />\n<br />\n11:00 AM to 12:00 PM<br />\n<br />\n&nbsp\;Village Hall (Board Room)<br />\n210 Cottonwood Ave<br />\nHartland\, WI&nbsp\; 53029<br />\nSeating is limited&nbsp\;<br />\n<br />\n<u><strong>SENIOR CITIZENS ARE ESPECIALLY ENCOURAGED TO ATTEND<br />\nTAKE HOME MATERIALS PROVIDED</strong></u><br />\n<br />\nRSVP:&nbsp\; Call 262-367-2323 or Email <u style="text-underline:#0563C1\;"><span style="color:#0563C1\;">paulah@villageofhartland.com</span></u></div>\n
LOCATION:Village Hall (Board Room) 210 Cottonwood Ave Hartland\, WI 53029 Seating is limited
UID:e.522.137677
SEQUENCE:3
DTSTAMP:20260424T155313Z
URL:https://business.hartland-wi.org/events/details/preventing-identity-theft-and-current-scams-137677
END:VEVENT

END:VCALENDAR
