BEGIN:VCALENDAR
VERSION:2.0
PRODID:-//ChamberMaster//Event Calendar 2.0//EN
METHOD:PUBLISH
X-PUBLISHED-TTL:P3D
REFRESH-INTERVAL:P3D
CALSCALE:GREGORIAN
BEGIN:VEVENT
DTSTART:20190123T160000Z
DTEND:20190123T180000Z
X-MICROSOFT-CDO-ALLDAYEVENT:FALSE
SUMMARY:Powerful Tools for Caregivers
DESCRIPTION:Powerful Tools for Caregivers\n\nDesigned specifically for family caregivers who care for elderly or special needs person\, this 6 week focused workshop empowers caregivers to improve self care.  Caregivers will learn how to reduce stress\, improve communication\, set action plans and solve problems.  It offers solid information on hiring in home help\, dealing with financial concerns\, overcoming depression\, making decisions\, and working with memory impairment.  After completing this course many participants report that they were able to overcome the challenges that arise with care giving.\n\n\n\nTo register call:  888-863-5502 or contact Trish Golden at 262-434-1248\n\n\n\nProgram is hosted by Waukesha Aging & Disability Resource Center.  If you are in need of respite care please call Trish Golden at 262-434-1248.
X-ALT-DESC;FMTTYPE=text/html:<div style="text-align: center\;"><strong>Powerful Tools for Caregivers<br />\nDesigned specifically for family caregivers who care for elderly or special needs person\, this 6 week focused workshop empowers caregivers to improve self care.&nbsp\; Caregivers will learn how to reduce stress\, improve communication\, set action plans and solve problems.&nbsp\; It offers solid information on hiring in home help\, dealing with financial concerns\, overcoming depression\, making decisions\, and working with memory impairment.&nbsp\; After completing this course many participants report that they were able to overcome the challenges that arise with care giving.<br />\n<br />\nTo register call:&nbsp\; 888-863-5502 or contact Trish Golden at 262-434-1248<br />\n<br />\nProgram is hosted by Waukesha Aging &amp\; Disability Resource Center.&nbsp\; If you are in need of respite care please call Trish Golden at 262-434-1248.</strong><br />\n&nbsp\;</div>\n
LOCATION:Aurora Medical center Summit Armour Room
UID:e.522.137593
SEQUENCE:3
DTSTAMP:20260424T135144Z
URL:https://business.hartland-wi.org/events/details/powerful-tools-for-caregivers-01-23-2019-137593
END:VEVENT

END:VCALENDAR
