BEGIN:VCALENDAR
VERSION:2.0
PRODID:-//ChamberMaster//Event Calendar 2.0//EN
METHOD:PUBLISH
X-PUBLISHED-TTL:P3D
REFRESH-INTERVAL:P3D
CALSCALE:GREGORIAN
BEGIN:VEVENT
DTSTART:20160218T000000Z
DTEND:20160218T033000Z
X-MICROSOFT-CDO-ALLDAYEVENT:FALSE
SUMMARY:Police Citizen's Academy
DESCRIPTION:Police Citizen's Academy\n\nWednesday Evenings\n\n6:00 - 9:30 pm\n\nFebruary 17th - April 30th\n\n\n\nEducating the community on police operations and behind the scenes practices\n\n\n\nTopics include:  Operating while intoxicated\, Internet crimes (ID theft and safety)\, Major Investigations Unit\, SWAT team presentation\, Lake Country Fire Department\, Use of Force\, Emergency Vehicle Operations and Dispatch operations.)
X-ALT-DESC;FMTTYPE=text/html:<div style="text-align: center\;"><strong><span style="color: rgb(0\, 0\, 205)\;"><u><span style="font-size: 16px\;">Police Citizen&#39\;s Academy</span></u><br />\nWednesday Evenings<br />\n6:00 - 9:30 pm<br />\nFebruary&nbsp\;17th -&nbsp\;April 30th</span><br />\n<br />\n<span style="color: rgb(255\, 0\, 0)\;"><span style="font-size: 14px\;"><em>Educating the community on police operations and behind the scenes practices</em></span></span><br />\n<br />\nTopics include:&nbsp\; Operating while intoxicated\, Internet crimes (ID theft and safety)\, Major Investigations Unit\, SWAT team presentation\, Lake Country Fire Department\, Use of Force\, Emergency Vehicle Operations and Dispatch operations.)</strong></div>\n
LOCATION:Various locations depending on the topic
UID:e.522.133353
SEQUENCE:3
DTSTAMP:20260422T023644Z
URL:https://business.hartland-wi.org/events/details/police-citizen-s-academy-02-17-2016-133353
END:VEVENT

END:VCALENDAR
