BEGIN:VCALENDAR
VERSION:2.0
PRODID:-//ChamberMaster//Event Calendar 2.0//EN
METHOD:PUBLISH
X-PUBLISHED-TTL:P3D
REFRESH-INTERVAL:P3D
CALSCALE:GREGORIAN
BEGIN:VEVENT
DTSTART:20110506T233000Z
DTEND:20110507T020000Z
X-MICROSOFT-CDO-ALLDAYEVENT:FALSE
SUMMARY:Parents' Night Out/Kids' Movie Night
DESCRIPTION:Kids ages 5 to 12 are invited to LCMA's Parents' Night Out/Kids Movie Night Program the first Friday of each month.  May we will watch Megamind! Pizza included.
X-ALT-DESC;FMTTYPE=text/html:Kids ages 5 to 12 are invited to LCMA's Parents' Night Out/Kids Movie Night Program the first Friday of each month.  May we will watch Megamind! Pizza included.  
LOCATION:Lake Country Martial Arts Family Resource Room 350 Cottonwood Ave\, Hartland
UID:e.522.131715
SEQUENCE:3
DTSTAMP:20260422T165747Z
URL:https://business.hartland-wi.org/events/details/parents-night-out-kids-movie-night-05-06-2011-131715
END:VEVENT

END:VCALENDAR
