BEGIN:VCALENDAR
VERSION:2.0
PRODID:-//ChamberMaster//Event Calendar 2.0//EN
METHOD:PUBLISH
X-PUBLISHED-TTL:P3D
REFRESH-INTERVAL:P3D
CALSCALE:GREGORIAN
BEGIN:VEVENT
DTSTART:20181022T220000Z
DTEND:20181023T000000Z
X-MICROSOFT-CDO-ALLDAYEVENT:FALSE
SUMMARY:Parenting Children and Teens with Anxiety
DESCRIPTION:Parenting Children and Teens with Anxiety\n\n\n\nWhat is Anxiety in Children?\n\nAccording to the CDC\, more than 1 in 20\, U.S. children aged 6-17 years had current anxiety or depression.  Anxiety is a form of stress.  It can be experienced in many different ways - physicall\, emotionally\, and in the way people view the world around them.  Anxiety mailny relates to worry about what might happen - worrying about things going wrong or feeling like you're in some kind of danger.\n\n\n\nJoin\, Jody Pickruhn\, LCSW and learn about anxiety issues for children and adolescents as he will navigate us through the causes\, types\, sources and treatments to help your children.\n\nSpace is limited!  Phone:  8888-863-5502 or contact Trish Golden at 262-434-1248
X-ALT-DESC;FMTTYPE=text/html:<div style="text-align: center\;"><strong>Parenting Children and Teens with Anxiety<br />\n<br />\nWhat is Anxiety in Children?<br />\nAccording to the CDC\, more than 1 in 20\, U.S. children aged 6-17 years had current anxiety or depression.&nbsp\; Anxiety is a form of stress.&nbsp\; It can be experienced in many different ways - physicall\, emotionally\, and in the way people view the world around them.&nbsp\; Anxiety mailny relates to worry about what might happen - worrying about things going wrong or feeling like you&#39\;re in some kind of danger.<br />\n<br />\nJoin\, Jody Pickruhn\, LCSW and learn about anxiety issues for children and adolescents as he will navigate us through the causes\, types\, sources and treatments to help your children.<br />\nSpace is limited!&nbsp\; Phone:&nbsp\; 8888-863-5502 or contact Trish Golden at 262-434-1248</strong><br />\n&nbsp\;</div>\n
LOCATION:Aurora Medical Center Summit Draper Hall 36500 Aurora Drive Summit\, WI
UID:e.522.137488
SEQUENCE:3
DTSTAMP:20260424T091215Z
URL:https://business.hartland-wi.org/events/details/parenting-children-and-teens-with-anxiety-137488
END:VEVENT

END:VCALENDAR
