BEGIN:VCALENDAR
VERSION:2.0
PRODID:-//ChamberMaster//Event Calendar 2.0//EN
METHOD:PUBLISH
X-PUBLISHED-TTL:P3D
REFRESH-INTERVAL:P3D
CALSCALE:GREGORIAN
BEGIN:VEVENT
DTSTART;VALUE=DATE:20110211
DTEND;VALUE=DATE:20110212
TRANSP:TRANSPARENT
X-MICROSOFT-CDO-ALLDAYEVENT:TRUE
SUMMARY:Parent's Night Out
DESCRIPTION:A night of fun in our facility awaits your child(ren) while you go out.  We provide pizza and drinks for child's dinner.  Bring a swimsuit.  Must be fully potty-trained.\n\nAges 4-10
X-ALT-DESC;FMTTYPE=text/html:A night of fun in our facility awaits your child(ren) while you go out.  We provide pizza and drinks for child's dinner.  Bring a swimsuit.  Must be fully potty-trained.\n<br>Ages 4-10
LOCATION:YMCA at Pabst Farms 1750 E. Valley Road\, Oconomowoc
UID:e.522.131415
SEQUENCE:3
DTSTAMP:20260422T221217Z
URL:https://business.hartland-wi.org/events/details/parent-s-night-out-02-11-2011-131415
END:VEVENT

END:VCALENDAR
