BEGIN:VCALENDAR
VERSION:2.0
PRODID:-//ChamberMaster//Event Calendar 2.0//EN
METHOD:PUBLISH
X-PUBLISHED-TTL:P3D
REFRESH-INTERVAL:P3D
CALSCALE:GREGORIAN
BEGIN:VEVENT
DTSTART;VALUE=DATE:20110114
DTEND;VALUE=DATE:20110129
TRANSP:TRANSPARENT
X-MICROSOFT-CDO-ALLDAYEVENT:TRUE
SUMMARY:Parent's Night Out
DESCRIPTION:Parent's Night Out\n\nAges 4-10\; must be fully potty-trained\n\nA night of fun in our facility awaits your child while you go out.  We provide pizza and drinks for children's dinner.\n\nBring Swimsuit.
X-ALT-DESC;FMTTYPE=text/html:Parent's Night Out\n<br>Ages 4-10\; must be fully potty-trained\n<br>A night of fun in our facility awaits your child while you go out.  We provide pizza and drinks for children's dinner.\n<br>Bring Swimsuit.
LOCATION:YMCA at Pabst Farms 1750 E. Valley Rd.\, Oconomowoc\, WI
UID:e.522.131272
SEQUENCE:3
DTSTAMP:20260423T001326Z
URL:https://business.hartland-wi.org/events/details/parent-s-night-out-01-14-2011-131272
END:VEVENT

END:VCALENDAR
