BEGIN:VCALENDAR
VERSION:2.0
PRODID:-//ChamberMaster//Event Calendar 2.0//EN
METHOD:PUBLISH
X-PUBLISHED-TTL:P3D
REFRESH-INTERVAL:P3D
CALSCALE:GREGORIAN
BEGIN:VEVENT
DTSTART:20121216T150000Z
DTEND:20121216T170000Z
X-MICROSOFT-CDO-ALLDAYEVENT:FALSE
SUMMARY:Pancakes With Santa
DESCRIPTION:Pancakes with Santa\n\n	Pancakes with all the fixings (Breakfast meats extra)\, fresh fruits\,creative kids toppings\, juices\, milk and coffee for the adults. Bring a gently used or new book to trade for another. Extra books are donated to a childrens reading program.\n\n	Visit with Santa in a relaxed\, family friendly atomosphere without the hustle & bustle of the mall. Free crafts for the kids!! Remember your camera for those photo opportunities!!\n\n	Sponsored by The Sons of the American Legion
X-ALT-DESC;FMTTYPE=text/html:<p style="text-align: center">\n	<span style="font-size: 28px"><strong><span style="font-family: comic sans ms"><span style="color: #ff0000">Pancakes with Santa</span><br />\n	<span style="font-size: 18px">Pancakes with all the fixings (Breakfast meats extra)\, fresh fruits\,creative kids toppings\, juices\, milk and coffee for the adults. Bring a gently used or new book to trade for another. Extra books are donated to a childrens reading program.<br />\n	Visit with Santa in a relaxed\, family friendly atomosphere without the hustle &amp\; bustle of the mall. Free crafts for the kids!!&nbsp\;Remember your camera for those photo opportunities!!<br />\n	Sponsored by The Sons of the American Legion</span></span></strong></span><br />\n	&nbsp\;</p>\n
LOCATION:Flanagan Dorn Post 294\, 231 Goodwin Ave\, Hartland
UID:e.522.132051
SEQUENCE:3
DTSTAMP:20260421T060433Z
URL:https://business.hartland-wi.org/events/details/pancakes-with-santa-12-16-2012-132051
END:VEVENT

END:VCALENDAR
